Back to Multiple platform build/check report for BioC 3.12 |
|
This page was generated on 2021-05-06 12:29:58 -0400 (Thu, 06 May 2021).
To the developers/maintainers of the basilisk.utils package: Please make sure to use the following settings in order to reproduce any error or warning you see on this page. |
Package 122/1974 | Hostname | OS / Arch | INSTALL | BUILD | CHECK | BUILD BIN | ||||||||
basilisk.utils 1.2.2 (landing page) Aaron Lun
| malbec1 | Linux (Ubuntu 18.04.5 LTS) / x86_64 | OK | OK | OK | |||||||||
tokay1 | Windows Server 2012 R2 Standard / x64 | OK | OK | OK | OK | |||||||||
merida1 | macOS 10.14.6 Mojave / x86_64 | OK | OK | OK | OK | |||||||||
Package: basilisk.utils |
Version: 1.2.2 |
Command: C:\cygwin\bin\curl.exe -O http://172.29.0.3/BBS/3.12/bioc/src/contrib/basilisk.utils_1.2.2.tar.gz && rm -rf basilisk.utils.buildbin-libdir && mkdir basilisk.utils.buildbin-libdir && C:\Users\biocbuild\bbs-3.12-bioc\R\bin\R.exe CMD INSTALL --merge-multiarch --build --library=basilisk.utils.buildbin-libdir basilisk.utils_1.2.2.tar.gz && C:\Users\biocbuild\bbs-3.12-bioc\R\bin\R.exe CMD INSTALL basilisk.utils_1.2.2.zip && rm basilisk.utils_1.2.2.tar.gz basilisk.utils_1.2.2.zip |
StartedAt: 2021-05-05 16:39:20 -0400 (Wed, 05 May 2021) |
EndedAt: 2021-05-05 16:39:54 -0400 (Wed, 05 May 2021) |
EllapsedTime: 34.0 seconds |
RetCode: 0 |
Status: OK |
############################################################################## ############################################################################## ### ### Running command: ### ### C:\cygwin\bin\curl.exe -O http://172.29.0.3/BBS/3.12/bioc/src/contrib/basilisk.utils_1.2.2.tar.gz && rm -rf basilisk.utils.buildbin-libdir && mkdir basilisk.utils.buildbin-libdir && C:\Users\biocbuild\bbs-3.12-bioc\R\bin\R.exe CMD INSTALL --merge-multiarch --build --library=basilisk.utils.buildbin-libdir basilisk.utils_1.2.2.tar.gz && C:\Users\biocbuild\bbs-3.12-bioc\R\bin\R.exe CMD INSTALL basilisk.utils_1.2.2.zip && rm basilisk.utils_1.2.2.tar.gz basilisk.utils_1.2.2.zip ### ############################################################################## ############################################################################## % Total % Received % Xferd Average Speed Time Time Time Current Dload Upload Total Spent Left Speed 0 0 0 0 0 0 0 0 --:--:-- --:--:-- --:--:-- 0 100 13457 100 13457 0 0 177k 0 --:--:-- --:--:-- --:--:-- 180k install for i386 * installing *source* package 'basilisk.utils' ... ** using staged installation ** R ** inst ** byte-compile and prepare package for lazy loading ** help *** installing help indices converting help for package 'basilisk.utils' finding HTML links ... done clearExternalDir html destroyOldVersions html dir.create2 html getBinaries html getCondaDir html getExternalDir html finding level-2 HTML links ... done getSystemDir html installConda html isWindows html lockExternalDir html setVariable html unlink2 html useSystemDir html ** building package indices ** installing vignettes ** testing if installed package can be loaded from temporary location ** testing if installed package can be loaded from final location ** testing if installed package keeps a record of temporary installation path install for x64 * installing *source* package 'basilisk.utils' ... ** testing if installed package can be loaded * MD5 sums packaged installation of 'basilisk.utils' as basilisk.utils_1.2.2.zip * DONE (basilisk.utils) * installing to library 'C:/Users/biocbuild/bbs-3.12-bioc/R/library' package 'basilisk.utils' successfully unpacked and MD5 sums checked