Back to Build/check report for BioC 3.22 experimental data
ABCDEF[G]HIJKLMNOPQRSTUVWXYZ

This page was generated on 2025-07-01 15:41 -0400 (Tue, 01 Jul 2025).

HostnameOSArch (*)R versionInstalled pkgs
nebbiolo2Linux (Ubuntu 24.04.1 LTS)x86_644.5.1 (2025-06-13) -- "Great Square Root" 4775
Click on any hostname to see more info about the system (e.g. compilers)      (*) as reported by 'uname -p', except on Windows and Mac OS X

Package 146/429HostnameOS / ArchINSTALLBUILDCHECK
geneLenDataBase 1.45.0  (landing page)
Federico Marini
Snapshot Date: 2025-07-01 07:30 -0400 (Tue, 01 Jul 2025)
git_url: https://git.bioconductor.org/packages/geneLenDataBase
git_branch: devel
git_last_commit: 109b234
git_last_commit_date: 2025-04-15 09:16:59 -0400 (Tue, 15 Apr 2025)
nebbiolo2Linux (Ubuntu 24.04.1 LTS) / x86_64  OK    OK    OK  UNNEEDED, same version is already published


CHECK results for geneLenDataBase on nebbiolo2

To the developers/maintainers of the geneLenDataBase package:
- Use the following Renviron settings to reproduce errors and warnings.
- If 'R CMD check' started to fail recently on the Linux builder(s) over a missing dependency, add the missing dependency to 'Suggests:' in your DESCRIPTION file. See Renviron.bioc for more information.

raw results


Summary

Package: geneLenDataBase
Version: 1.45.0
Command: /home/biocbuild/bbs-3.22-bioc/R/bin/R CMD check --install=check:geneLenDataBase.install-out.txt --library=/home/biocbuild/bbs-3.22-bioc/R/site-library --timings geneLenDataBase_1.45.0.tar.gz
StartedAt: 2025-07-01 12:24:56 -0400 (Tue, 01 Jul 2025)
EndedAt: 2025-07-01 12:34:17 -0400 (Tue, 01 Jul 2025)
EllapsedTime: 561.2 seconds
RetCode: 0
Status:   OK  
CheckDir: geneLenDataBase.Rcheck
Warnings: 0

Command output

##############################################################################
##############################################################################
###
### Running command:
###
###   /home/biocbuild/bbs-3.22-bioc/R/bin/R CMD check --install=check:geneLenDataBase.install-out.txt --library=/home/biocbuild/bbs-3.22-bioc/R/site-library --timings geneLenDataBase_1.45.0.tar.gz
###
##############################################################################
##############################################################################


* using log directory ‘/home/biocbuild/bbs-3.22-data-experiment/meat/geneLenDataBase.Rcheck’
* using R version 4.5.1 (2025-06-13)
* using platform: x86_64-pc-linux-gnu
* R was compiled by
    gcc (Ubuntu 13.3.0-6ubuntu2~24.04) 13.3.0
    GNU Fortran (Ubuntu 13.3.0-6ubuntu2~24.04) 13.3.0
* running under: Ubuntu 24.04.2 LTS
* using session charset: UTF-8
* checking for file ‘geneLenDataBase/DESCRIPTION’ ... OK
* this is package ‘geneLenDataBase’ version ‘1.45.0’
* package encoding: UTF-8
* checking package namespace information ... OK
* checking package dependencies ... OK
* checking if this is a source package ... OK
* checking if there is a namespace ... OK
* checking for hidden files and directories ... OK
* checking for portable file names ... OK
* checking for sufficient/correct file permissions ... OK
* checking whether package ‘geneLenDataBase’ can be installed ... OK
* checking installed package size ... INFO
  installed size is 100.3Mb
  sub-directories of 1Mb or more:
    data  99.7Mb
* checking package directory ... OK
* checking DESCRIPTION meta-information ... OK
* checking top-level files ... OK
* checking for left-over files ... OK
* checking index information ... OK
* checking package subdirectories ... OK
* checking code files for non-ASCII characters ... OK
* checking R files for syntax errors ... OK
* checking whether the package can be loaded ... OK
* checking whether the package can be loaded with stated dependencies ... OK
* checking whether the package can be unloaded cleanly ... OK
* checking whether the namespace can be loaded with stated dependencies ... OK
* checking whether the namespace can be unloaded cleanly ... OK
* checking loading without being on the library search path ... OK
* checking dependencies in R code ... NOTE
Unexported object imported by a ':::' call: ‘txdbmaker:::.UCSC_TXNAME2GENEID_MAPDEFS’
  See the note in ?`:::` about the use of this operator.
* checking S3 generic/method consistency ... OK
* checking replacement functions ... OK
* checking foreign function calls ... OK
* checking R code for possible problems ... OK
* checking Rd files ... OK
* checking Rd metadata ... OK
* checking Rd cross-references ... OK
* checking for missing documentation entries ... OK
* checking for code/documentation mismatches ... OK
* checking Rd \usage sections ... OK
* checking Rd contents ... OK
* checking for unstated dependencies in examples ... OK
* checking contents of ‘data’ directory ... OK
* checking data for non-ASCII characters ... OK
* checking data for ASCII and uncompressed saves ... OK
* checking examples ... OK
Examples with CPU (user + system) or elapsed time > 5s
                  user system elapsed
supportedGeneIDs 3.241  0.306   5.238
* checking PDF version of manual ... OK
* DONE

Status: 1 NOTE
See
  ‘/home/biocbuild/bbs-3.22-data-experiment/meat/geneLenDataBase.Rcheck/00check.log’
for details.


Installation output

geneLenDataBase.Rcheck/00install.out

##############################################################################
##############################################################################
###
### Running command:
###
###   /home/biocbuild/bbs-3.22-bioc/R/bin/R CMD INSTALL geneLenDataBase
###
##############################################################################
##############################################################################


* installing to library ‘/home/biocbuild/bbs-3.22-bioc/R/site-library’
* installing *source* package ‘geneLenDataBase’ ...
** this is package ‘geneLenDataBase’ version ‘1.45.0’
** using staged installation
** R
** data
** byte-compile and prepare package for lazy loading
** help
*** installing help indices
** building package indices
** testing if installed package can be loaded from temporary location
** testing if installed package can be loaded from final location
** testing if installed package keeps a record of temporary installation path
* DONE (geneLenDataBase)

Tests output


Example timings

geneLenDataBase.Rcheck/geneLenDataBase-Ex.timings

nameusersystemelapsed
anoCar1.ensGene.LENGTH0.0770.0040.082
anoCar1.genscan.LENGTH0.0480.0010.048
anoCar1.xenoRefGene.LENGTH0.9300.0140.944
anoGam1.ensGene.LENGTH0.0600.0000.061
anoGam1.geneid.LENGTH0.0450.0000.045
anoGam1.genscan.LENGTH0.0400.0010.041
apiMel1.genscan.LENGTH0.0360.0010.038
apiMel2.ensGene.LENGTH0.0870.0000.087
apiMel2.geneid.LENGTH0.0490.0010.049
apiMel2.genscan.LENGTH0.1100.0010.112
aplCal1.xenoRefGene.LENGTH0.4030.0050.409
bosTau2.geneSymbol.LENGTH0.0370.0010.039
bosTau2.geneid.LENGTH1.0260.0011.028
bosTau2.genscan.LENGTH0.0790.0010.079
bosTau2.refGene.LENGTH0.0380.0010.039
bosTau2.sgpGene.LENGTH0.1010.0000.101
bosTau3.ensGene.LENGTH0.0990.0010.099
bosTau3.geneSymbol.LENGTH0.0320.0000.033
bosTau3.geneid.LENGTH0.1130.0000.113
bosTau3.genscan.LENGTH0.0690.0070.077
bosTau3.refGene.LENGTH0.0320.0000.033
bosTau3.sgpGene.LENGTH0.0880.0000.089
bosTau4.ensGene.LENGTH0.0950.0000.096
bosTau4.geneSymbol.LENGTH0.0320.0000.031
bosTau4.genscan.LENGTH0.0630.0010.065
bosTau4.nscanGene.LENGTH0.0280.0010.028
bosTau4.refGene.LENGTH0.0310.0010.031
braFlo1.xenoRefGene.LENGTH0.3610.0050.368
caeJap1.xenoRefGene.LENGTH0.3100.0060.316
caePb1.xenoRefGene.LENGTH0.4150.0020.417
caePb2.xenoRefGene.LENGTH0.4080.0030.413
caeRem2.xenoRefGene.LENGTH0.3860.0000.387
caeRem3.xenoRefGene.LENGTH0.3410.0030.343
calJac1.genscan.LENGTH0.0900.0030.093
calJac1.nscanGene.LENGTH0.1120.0020.115
calJac1.xenoRefGene.LENGTH0.6620.0040.666
canFam1.ensGene.LENGTH0.3470.0100.356
canFam1.geneSymbol.LENGTH0.0060.0010.005
canFam1.genscan.LENGTH0.060.000.06
canFam1.nscanGene.LENGTH0.0580.0000.060
canFam1.refGene.LENGTH0.0050.0000.005
canFam1.xenoRefGene.LENGTH0.5430.0080.552
canFam2.ensGene.LENGTH0.0880.0000.089
canFam2.geneSymbol.LENGTH0.0050.0000.005
canFam2.genscan.LENGTH0.0540.0000.055
canFam2.nscanGene.LENGTH0.0600.0000.062
canFam2.refGene.LENGTH0.0050.0000.005
canFam2.xenoRefGene.LENGTH0.5330.0040.537
cavPor3.ensGene.LENGTH0.0810.0000.082
cavPor3.genscan.LENGTH0.0950.0000.096
cavPor3.nscanGene.LENGTH0.0650.0000.065
cavPor3.xenoRefGene.LENGTH0.5670.0000.568
cb1.xenoRefGene.LENGTH0.3880.0020.388
cb3.xenoRefGene.LENGTH0.3330.0010.334
ce2.geneSymbol.LENGTH0.1700.0060.176
ce2.geneid.LENGTH0.0540.0000.054
ce2.refGene.LENGTH0.0620.0010.062
ce4.geneSymbol.LENGTH0.0660.0000.066
ce4.refGene.LENGTH0.0630.0000.063
ce4.xenoRefGene.LENGTH0.0780.0000.078
ce6.ensGene.LENGTH0.0880.0000.089
ce6.geneSymbol.LENGTH0.0660.0000.065
ce6.refGene.LENGTH0.0620.0000.063
ce6.xenoRefGene.LENGTH0.0750.0010.076
ci1.geneSymbol.LENGTH0.0050.0000.005
ci1.refGene.LENGTH0.0040.0000.004
ci1.xenoRefGene.LENGTH0.1570.0010.158
ci2.ensGene.LENGTH0.0590.0000.060
ci2.geneSymbol.LENGTH0.0040.0010.005
ci2.refGene.LENGTH0.0020.0020.004
ci2.xenoRefGene.LENGTH0.2560.0000.257
danRer3.ensGene.LENGTH0.0940.0000.094
danRer3.geneSymbol.LENGTH0.0510.0010.052
danRer3.refGene.LENGTH0.0460.0010.047
danRer4.ensGene.LENGTH0.1110.0110.123
danRer4.geneSymbol.LENGTH0.0500.0050.056
danRer4.genscan.LENGTH0.0590.0050.065
danRer4.nscanGene.LENGTH0.0820.0030.085
danRer4.refGene.LENGTH0.0460.0020.048
danRer5.ensGene.LENGTH0.1110.0000.111
danRer5.geneSymbol.LENGTH0.0480.0010.048
danRer5.refGene.LENGTH0.0410.0020.043
danRer5.vegaGene.LENGTH0.0430.0030.046
danRer5.vegaPseudoGene.LENGTH0.0020.0000.003
danRer6.ensGene.LENGTH0.1060.0000.107
danRer6.geneSymbol.LENGTH0.0480.0000.049
danRer6.refGene.LENGTH0.0440.0000.044
danRer6.xenoRefGene.LENGTH0.4890.0030.492
dm1.geneSymbol.LENGTH0.0630.0000.063
dm1.genscan.LENGTH0.0240.0000.023
dm1.refGene.LENGTH0.0590.0000.059
dm2.geneSymbol.LENGTH0.0610.0010.062
dm2.geneid.LENGTH0.0340.0020.035
dm2.genscan.LENGTH0.0230.0000.022
dm2.nscanGene.LENGTH0.0480.0010.049
dm2.refGene.LENGTH0.0550.0010.056
dm3.geneSymbol.LENGTH0.0670.0000.068
dm3.nscanPasaGene.LENGTH0.0480.0010.050
dm3.refGene.LENGTH0.0620.0010.064
downloadLengthFromUCSC000
dp2.genscan.LENGTH0.0310.0000.030
dp2.xenoRefGene.LENGTH0.1920.0010.192
dp3.geneid.LENGTH0.0380.0010.038
dp3.genscan.LENGTH0.0240.0020.025
dp3.xenoRefGene.LENGTH0.1090.0000.109
droAna1.geneid.LENGTH0.0660.0020.069
droAna1.genscan.LENGTH0.0200.0020.022
droAna1.xenoRefGene.LENGTH0.1900.0010.191
droAna2.genscan.LENGTH0.1840.0060.190
droAna2.xenoRefGene.LENGTH0.2570.0000.256
droEre1.genscan.LENGTH0.0280.0010.028
droEre1.xenoRefGene.LENGTH0.2390.0000.239
droGri1.genscan.LENGTH0.0380.0010.038
droGri1.xenoRefGene.LENGTH0.2600.0010.260
droMoj1.geneid.LENGTH0.1220.0010.122
droMoj1.genscan.LENGTH0.0540.0000.055
droMoj1.xenoRefGene.LENGTH0.1970.0020.200
droMoj2.genscan.LENGTH0.0350.0010.036
droMoj2.xenoRefGene.LENGTH0.2460.0000.247
droPer1.genscan.LENGTH0.0390.0000.039
droPer1.xenoRefGene.LENGTH0.2670.0110.278
droSec1.genscan.LENGTH0.0290.0010.030
droSec1.xenoRefGene.LENGTH0.2590.0020.261
droSim1.geneid.LENGTH0.0370.0010.038
droSim1.genscan.LENGTH0.0250.0010.025
droSim1.xenoRefGene.LENGTH0.2190.0020.220
droVir1.geneid.LENGTH0.1010.0040.104
droVir1.genscan.LENGTH0.0400.0020.042
droVir1.xenoRefGene.LENGTH0.2340.0020.237
droVir2.genscan.LENGTH0.1290.0030.132
droVir2.xenoRefGene.LENGTH0.2660.0010.267
droYak1.geneid.LENGTH0.0420.0010.042
droYak1.genscan.LENGTH0.0290.0000.029
droYak1.xenoRefGene.LENGTH0.2040.0010.204
droYak2.genscan.LENGTH0.0270.0000.027
droYak2.xenoRefGene.LENGTH0.2450.0010.246
equCab1.geneSymbol.LENGTH0.0060.0000.005
equCab1.geneid.LENGTH0.0910.0020.093
equCab1.nscanGene.LENGTH0.0390.0020.042
equCab1.refGene.LENGTH0.0040.0010.004
equCab1.sgpGene.LENGTH0.0650.0010.066
equCab2.ensGene.LENGTH0.0980.0000.097
equCab2.geneSymbol.LENGTH0.0070.0000.006
equCab2.nscanGene.LENGTH0.0520.0000.051
equCab2.refGene.LENGTH0.0060.0000.006
equCab2.xenoRefGene.LENGTH0.5610.0010.562
felCat3.ensGene.LENGTH0.1020.0000.101
felCat3.geneSymbol.LENGTH0.0030.0010.003
felCat3.geneid.LENGTH0.7850.0100.795
felCat3.genscan.LENGTH0.1100.0000.111
felCat3.nscanGene.LENGTH0.0840.0010.086
felCat3.refGene.LENGTH0.0040.0000.004
felCat3.sgpGene.LENGTH0.1410.0000.142
felCat3.xenoRefGene.LENGTH1.0640.0021.066
fr1.ensGene.LENGTH0.0730.0000.074
fr1.genscan.LENGTH0.0560.0000.056
fr2.ensGene.LENGTH0.1270.0000.127
galGal2.ensGene.LENGTH0.0560.0000.056
galGal2.geneSymbol.LENGTH0.0160.0000.017
galGal2.geneid.LENGTH0.0370.0000.038
galGal2.genscan.LENGTH0.0480.0010.050
galGal2.refGene.LENGTH0.0150.0000.015
galGal2.sgpGene.LENGTH0.0420.0000.043
galGal3.ensGene.LENGTH0.0730.0000.073
galGal3.geneSymbol.LENGTH0.0150.0000.015
galGal3.genscan.LENGTH0.0450.0010.045
galGal3.nscanGene.LENGTH0.070.000.07
galGal3.refGene.LENGTH0.0130.0010.014
galGal3.xenoRefGene.LENGTH1.3820.2011.583
gasAcu1.ensGene.LENGTH0.0800.0010.081
gasAcu1.nscanGene.LENGTH0.080.000.08
hg16.acembly.LENGTH0.3260.0070.334
hg16.ensGene.LENGTH0.0620.0020.065
hg16.exoniphy.LENGTH0.2170.0020.219
hg16.geneSymbol.LENGTH0.0950.0010.096
hg16.geneid.LENGTH0.0440.0010.045
hg16.genscan.LENGTH0.0580.0000.058
hg16.knownGene.LENGTH0.1110.0010.112
hg16.refGene.LENGTH0.0910.0010.092
hg16.sgpGene.LENGTH0.0500.0010.051
hg17.acembly.LENGTH0.4180.0050.423
hg17.acescan.LENGTH0.0080.0020.011
hg17.ccdsGene.LENGTH0.0220.0010.023
hg17.ensGene.LENGTH0.1040.0020.107
hg17.exoniphy.LENGTH0.3840.0010.385
hg17.geneSymbol.LENGTH0.1060.0010.108
hg17.geneid.LENGTH0.0720.0000.073
hg17.genscan.LENGTH0.0580.0000.059
hg17.knownGene.LENGTH0.1100.0010.111
hg17.refGene.LENGTH0.0990.0000.100
hg17.sgpGene.LENGTH0.0650.0020.068
hg17.vegaGene.LENGTH0.0440.0000.045
hg17.vegaPseudoGene.LENGTH0.0170.0010.018
hg17.xenoRefGene.LENGTH0.1910.0020.193
hg18.acembly.LENGTH0.4680.0160.484
hg18.acescan.LENGTH0.010.000.01
hg18.ccdsGene.LENGTH0.0320.0040.036
hg18.ensGene.LENGTH0.2160.0030.219
hg18.exoniphy.LENGTH0.4540.0030.458
hg18.geneSymbol.LENGTH0.1060.0010.107
hg18.geneid.LENGTH0.0700.0020.072
hg18.genscan.LENGTH0.0600.0020.061
hg18.knownGene.LENGTH0.1490.0100.159
hg18.knownGeneOld3.LENGTH0.0680.0030.070
hg18.refGene.LENGTH0.1010.0010.102
hg18.sgpGene.LENGTH0.0780.0010.079
hg18.sibGene.LENGTH0.8210.0130.834
hg18.xenoRefGene.LENGTH0.3190.0020.322
hg19.ccdsGene.LENGTH0.0380.0010.038
hg19.ensGene.LENGTH0.2980.0010.299
hg19.exoniphy.LENGTH0.4140.0020.415
hg19.geneSymbol.LENGTH0.0940.0030.097
hg19.knownGene.LENGTH0.1740.0010.176
hg19.nscanGene.LENGTH0.1480.0010.149
hg19.refGene.LENGTH0.0960.0000.096
hg19.xenoRefGene.LENGTH0.3490.0020.351
loxAfr3.xenoRefGene.LENGTH0.7110.0000.710
mm7.ensGene.LENGTH0.1190.0000.120
mm7.geneSymbol.LENGTH0.0860.0000.087
mm7.geneid.LENGTH0.0790.0060.086
mm7.genscan.LENGTH0.0610.0020.063
mm7.knownGene.LENGTH0.0940.0010.095
mm7.refGene.LENGTH0.0840.0010.084
mm7.sgpGene.LENGTH0.0720.0000.072
mm7.xenoRefGene.LENGTH0.2920.0010.292
mm8.ccdsGene.LENGTH0.0220.0000.022
mm8.ensGene.LENGTH0.1840.0070.191
mm8.geneSymbol.LENGTH0.0870.0010.087
mm8.geneid.LENGTH0.0770.0010.078
mm8.genscan.LENGTH0.0600.0020.062
mm8.knownGene.LENGTH0.0980.0000.098
mm8.nscanGene.LENGTH0.0630.0010.063
mm8.refGene.LENGTH0.0840.0000.084
mm8.sgpGene.LENGTH0.0710.0000.071
mm8.sibGene.LENGTH0.2630.0010.263
mm8.xenoRefGene.LENGTH0.3710.0000.370
mm9.acembly.LENGTH0.3340.0010.335
mm9.ccdsGene.LENGTH0.0290.0010.030
mm9.ensGene.LENGTH0.1580.0010.158
mm9.exoniphy.LENGTH0.4510.0010.452
mm9.geneSymbol.LENGTH0.0860.0000.086
mm9.geneid.LENGTH0.0810.0000.081
mm9.genscan.LENGTH0.0630.0000.063
mm9.knownGene.LENGTH0.1090.0000.108
mm9.nscanGene.LENGTH0.0620.0010.064
mm9.refGene.LENGTH0.0820.0010.084
mm9.sgpGene.LENGTH0.0780.0010.080
mm9.xenoRefGene.LENGTH0.9000.0010.902
monDom1.genscan.LENGTH0.0600.0000.061
monDom4.ensGene.LENGTH0.0660.0000.067
monDom4.geneSymbol.LENGTH0.0030.0000.003
monDom4.genscan.LENGTH0.0490.0020.050
monDom4.nscanGene.LENGTH0.0510.0000.052
monDom4.refGene.LENGTH0.0030.0000.003
monDom4.xenoRefGene.LENGTH0.3030.0000.302
monDom5.ensGene.LENGTH0.1010.0000.100
monDom5.geneSymbol.LENGTH0.0040.0000.003
monDom5.genscan.LENGTH0.0520.0010.054
monDom5.nscanGene.LENGTH0.1090.0010.110
monDom5.refGene.LENGTH0.0030.0000.003
monDom5.xenoRefGene.LENGTH0.5090.0000.510
ornAna1.ensGene.LENGTH0.0930.0000.094
ornAna1.geneSymbol.LENGTH0.0010.0010.003
ornAna1.refGene.LENGTH0.0010.0010.002
ornAna1.xenoRefGene.LENGTH0.5060.0000.507
oryLat2.ensGene.LENGTH0.0790.0010.081
oryLat2.geneSymbol.LENGTH0.0030.0010.004
oryLat2.refGene.LENGTH0.0030.0010.004
oryLat2.xenoRefGene.LENGTH0.460.000.46
panTro1.ensGene.LENGTH0.0990.0020.100
panTro1.geneid.LENGTH0.0490.0010.049
panTro1.genscan.LENGTH0.0600.0010.061
panTro1.xenoRefGene.LENGTH0.1050.0010.106
panTro2.ensGene.LENGTH0.1120.0000.112
panTro2.geneSymbol.LENGTH0.0980.0010.099
panTro2.genscan.LENGTH0.0610.0020.062
panTro2.nscanGene.LENGTH0.0640.0000.065
panTro2.refGene.LENGTH0.0990.0000.099
panTro2.xenoRefGene.LENGTH0.4790.0060.484
petMar1.xenoRefGene.LENGTH0.4940.0100.505
ponAbe2.ensGene.LENGTH0.090.000.09
ponAbe2.geneSymbol.LENGTH0.0110.0010.012
ponAbe2.genscan.LENGTH0.0640.0010.066
ponAbe2.nscanGene.LENGTH0.0600.0010.061
ponAbe2.refGene.LENGTH0.0090.0030.012
ponAbe2.xenoRefGene.LENGTH0.5950.0010.595
priPac1.xenoRefGene.LENGTH0.3310.0010.332
rheMac2.ensGene.LENGTH0.1220.0000.122
rheMac2.geneSymbol.LENGTH0.0050.0000.005
rheMac2.geneid.LENGTH0.0710.0000.072
rheMac2.nscanGene.LENGTH0.0590.0000.059
rheMac2.refGene.LENGTH0.0050.0000.005
rheMac2.sgpGene.LENGTH0.0720.0000.072
rheMac2.xenoRefGene.LENGTH0.4280.0010.428
rn3.ensGene.LENGTH0.0950.0000.095
rn3.geneSymbol.LENGTH0.0500.0010.050
rn3.geneid.LENGTH0.0510.0010.051
rn3.genscan.LENGTH0.0610.0010.063
rn3.knownGene.LENGTH0.0240.0000.023
rn3.nscanGene.LENGTH0.0580.0000.058
rn3.refGene.LENGTH0.0480.0010.049
rn3.sgpGene.LENGTH0.0580.0000.058
rn3.xenoRefGene.LENGTH0.4930.0010.495
rn4.ensGene.LENGTH0.4920.0020.494
rn4.geneSymbol.LENGTH0.0510.0010.052
rn4.geneid.LENGTH0.0860.0010.087
rn4.genscan.LENGTH0.0620.0000.063
rn4.knownGene.LENGTH0.0230.0000.023
rn4.nscanGene.LENGTH0.0560.0000.057
rn4.refGene.LENGTH0.0460.0000.046
rn4.sgpGene.LENGTH0.0840.0000.084
rn4.xenoRefGene.LENGTH0.3340.0010.335
sacCer1.ensGene.LENGTH0.0180.0000.018
sacCer2.ensGene.LENGTH0.0150.0010.017
strPur1.geneSymbol.LENGTH0.0030.0010.004
strPur1.genscan.LENGTH0.0610.0010.061
strPur1.refGene.LENGTH0.0040.0000.004
strPur1.xenoRefGene.LENGTH0.4110.0020.414
strPur2.geneSymbol.LENGTH0.0030.0000.004
strPur2.genscan.LENGTH0.1050.0000.105
strPur2.refGene.LENGTH0.0040.0000.003
strPur2.xenoRefGene.LENGTH0.5830.0010.584
supportedGeneIDs3.2410.3065.238
supportedGenomes0.2140.0041.062
taeGut1.ensGene.LENGTH0.0570.0040.061
taeGut1.geneSymbol.LENGTH0.0030.0000.003
taeGut1.genscan.LENGTH0.0290.0000.030
taeGut1.nscanGene.LENGTH0.0230.0010.024
taeGut1.refGene.LENGTH0.0020.0000.002
taeGut1.xenoRefGene.LENGTH0.3830.0030.386
tetNig1.ensGene.LENGTH0.0840.0030.087
tetNig1.geneid.LENGTH0.0620.0000.062
tetNig1.genscan.LENGTH0.0490.0030.053
tetNig1.nscanGene.LENGTH0.0670.0010.068
tetNig2.ensGene.LENGTH0.0710.0030.074
unfactor0.0030.0000.003
xenTro1.genscan.LENGTH0.0800.0030.083
xenTro2.ensGene.LENGTH0.0830.0020.085
xenTro2.geneSymbol.LENGTH0.0280.0000.029
xenTro2.genscan.LENGTH0.0660.0000.067
xenTro2.refGene.LENGTH0.0270.0000.027