Back to Rapid builds (Linux only) of a subset of BioC 3.22
Report updated every 6 hours

This page was generated on 2025-06-17 22:14 -0400 (Tue, 17 Jun 2025).

HostnameOSArch (*)R versionInstalled pkgs
teran2Linux (Ubuntu 24.04.1 LTS)x86_644.5.0 (2025-04-11) -- "How About a Twenty-Six" 886
Click on any hostname to see more info about the system (e.g. compilers)      (*) as reported by 'uname -p', except on Windows and Mac OS X

Package 193/221HostnameOS / ArchINSTALLBUILDCHECK
sesame 1.27.0  (landing page)
Wanding Zhou
Snapshot Date: 2025-06-17 18:00 -0400 (Tue, 17 Jun 2025)
git_url: https://git.bioconductor.org/packages/sesame
git_branch: devel
git_last_commit: ae005d1
git_last_commit_date: 2025-04-15 11:34:53 -0400 (Tue, 15 Apr 2025)
teran2Linux (Ubuntu 24.04.1 LTS) / x86_64  OK    OK    OK  


CHECK results for sesame on teran2

To the developers/maintainers of the sesame package:
- Use the following Renviron settings to reproduce errors and warnings.
- If 'R CMD check' started to fail recently on the Linux builder(s) over a missing dependency, add the missing dependency to 'Suggests:' in your DESCRIPTION file. See Renviron.bioc for more information.

raw results


Summary

Package: sesame
Version: 1.27.0
Command: /home/rapidbuild/bbs-3.22-bioc-rapid/R/bin/R CMD check --install=check:sesame.install-out.txt --library=/home/rapidbuild/bbs-3.22-bioc-rapid/R/site-library --timings sesame_1.27.0.tar.gz
StartedAt: 2025-06-17 21:43:44 -0400 (Tue, 17 Jun 2025)
EndedAt: 2025-06-17 21:58:55 -0400 (Tue, 17 Jun 2025)
EllapsedTime: 911.2 seconds
RetCode: 0
Status:   OK  
CheckDir: sesame.Rcheck
Warnings: 0

Command output

##############################################################################
##############################################################################
###
### Running command:
###
###   /home/rapidbuild/bbs-3.22-bioc-rapid/R/bin/R CMD check --install=check:sesame.install-out.txt --library=/home/rapidbuild/bbs-3.22-bioc-rapid/R/site-library --timings sesame_1.27.0.tar.gz
###
##############################################################################
##############################################################################


* using log directory ‘/media/volume/teran2_disk/rapidbuild/bbs-3.22-bioc-rapid/meat/sesame.Rcheck’
* using R version 4.5.0 (2025-04-11)
* using platform: x86_64-pc-linux-gnu
* R was compiled by
    gcc (Ubuntu 13.3.0-6ubuntu2~24.04) 13.3.0
    GNU Fortran (Ubuntu 13.3.0-6ubuntu2~24.04) 13.3.0
* running under: Ubuntu 24.04.2 LTS
* using session charset: UTF-8
* checking for file ‘sesame/DESCRIPTION’ ... OK
* checking extension type ... Package
* this is package ‘sesame’ version ‘1.27.0’
* package encoding: UTF-8
* checking package namespace information ... OK
* checking package dependencies ... OK
* checking if this is a source package ... OK
* checking if there is a namespace ... OK
* checking for hidden files and directories ... OK
* checking for portable file names ... OK
* checking for sufficient/correct file permissions ... OK
* checking whether package ‘sesame’ can be installed ... OK
* checking installed package size ... OK
* checking package directory ... OK
* checking ‘build’ directory ... OK
* checking DESCRIPTION meta-information ... OK
* checking top-level files ... OK
* checking for left-over files ... OK
* checking index information ... OK
* checking package subdirectories ... OK
* checking code files for non-ASCII characters ... OK
* checking R files for syntax errors ... OK
* checking whether the package can be loaded ... OK
* checking whether the package can be loaded with stated dependencies ... OK
* checking whether the package can be unloaded cleanly ... OK
* checking whether the namespace can be loaded with stated dependencies ... OK
* checking whether the namespace can be unloaded cleanly ... OK
* checking loading without being on the library search path ... OK
* checking whether startup messages can be suppressed ... OK
* checking dependencies in R code ... OK
* checking S3 generic/method consistency ... OK
* checking replacement functions ... OK
* checking foreign function calls ... OK
* checking R code for possible problems ... OK
* checking Rd files ... OK
* checking Rd metadata ... OK
* checking Rd cross-references ... OK
* checking for missing documentation entries ... OK
* checking for code/documentation mismatches ... OK
* checking Rd \usage sections ... OK
* checking Rd contents ... OK
* checking for unstated dependencies in examples ... OK
* checking files in ‘vignettes’ ... OK
* checking examples ... OK
Examples with CPU (user + system) or elapsed time > 5s
                                user system elapsed
imputeBetasByGenomicNeighbors 26.939  0.648  34.889
inferSex                      17.450  0.245  22.957
sesameQC_calcStats            15.124  0.033  22.080
inferSpecies                  13.476  0.825  17.617
sesameQC_plotHeatSNPs         13.738  0.048  16.109
imputeBetas                   13.334  0.239  18.413
ELBAR                         11.505  0.340  12.872
diffRefSet                    10.926  0.243  11.984
sesameQC_plotBar               9.966  0.116  10.773
getRefSet                      8.826  0.069   9.730
compareReference               7.998  0.154   9.101
compareMouseStrainReference    7.685  0.344   8.816
matchDesign                    7.654  0.050   9.183
sesameQC_plotBetaByDesign      6.977  0.001   7.694
DMR                            6.424  0.183   8.313
estimateLeukocyte              6.109  0.121   7.160
visualizeGene                  6.085  0.131   7.152
inferStrain                    5.175  0.497   7.291
DML                            5.149  0.207   5.717
dyeBiasCorrMostBalanced        5.130  0.111   6.133
inferTissue                    4.894  0.143   6.181
sdf_read_table                 4.886  0.097   5.520
deidentify                     4.041  0.067   5.432
createUCSCtrack                3.744  0.130   5.214
* checking for unstated dependencies in ‘tests’ ... OK
* checking tests ...
  Running ‘testthat.R’
 OK
* checking for unstated dependencies in vignettes ... OK
* checking package vignettes ... OK
* checking re-building of vignette outputs ... OK
* checking PDF version of manual ... OK
* DONE

Status: OK


Installation output

sesame.Rcheck/00install.out

##############################################################################
##############################################################################
###
### Running command:
###
###   /home/rapidbuild/bbs-3.22-bioc-rapid/R/bin/R CMD INSTALL sesame
###
##############################################################################
##############################################################################


* installing to library ‘/media/volume/teran2_disk/rapidbuild/bbs-3.22-bioc-rapid/R/site-library’
* installing *source* package ‘sesame’ ...
** this is package ‘sesame’ version ‘1.27.0’
** using staged installation
** R
** inst
** byte-compile and prepare package for lazy loading
** help
*** installing help indices
** building package indices
** installing vignettes
** testing if installed package can be loaded from temporary location
** testing if installed package can be loaded from final location
** testing if installed package keeps a record of temporary installation path
* DONE (sesame)

Tests output

sesame.Rcheck/tests/testthat.Rout


R version 4.5.0 (2025-04-11) -- "How About a Twenty-Six"
Copyright (C) 2025 The R Foundation for Statistical Computing
Platform: x86_64-pc-linux-gnu

R is free software and comes with ABSOLUTELY NO WARRANTY.
You are welcome to redistribute it under certain conditions.
Type 'license()' or 'licence()' for distribution details.

R is a collaborative project with many contributors.
Type 'contributors()' for more information and
'citation()' on how to cite R or R packages in publications.

Type 'demo()' for some demos, 'help()' for on-line help, or
'help.start()' for an HTML browser interface to help.
Type 'q()' to quit R.

> library(testthat)
> library(sesame)
Loading required package: sesameData
Loading required package: ExperimentHub
Loading required package: BiocGenerics
Loading required package: generics

Attaching package: 'generics'

The following objects are masked from 'package:base':

    as.difftime, as.factor, as.ordered, intersect, is.element, setdiff,
    setequal, union


Attaching package: 'BiocGenerics'

The following objects are masked from 'package:stats':

    IQR, mad, sd, var, xtabs

The following objects are masked from 'package:base':

    Filter, Find, Map, Position, Reduce, anyDuplicated, aperm, append,
    as.data.frame, basename, cbind, colnames, dirname, do.call,
    duplicated, eval, evalq, get, grep, grepl, is.unsorted, lapply,
    mapply, match, mget, order, paste, pmax, pmax.int, pmin, pmin.int,
    rank, rbind, rownames, sapply, saveRDS, table, tapply, unique,
    unsplit, which.max, which.min

Loading required package: AnnotationHub
Loading required package: BiocFileCache
Loading required package: dbplyr
Loading sesameData.

----------------------------------------------------------
| SEnsible Step-wise Analysis of DNA MEthylation (SeSAMe)
| --------------------------------------------------------
| Please cache auxiliary data by "sesameDataCache()".
| This needs to be done only once per SeSAMe installation.
----------------------------------------------------------

> 
> test_check("sesame")
[ FAIL 0 | WARN 0 | SKIP 0 | PASS 5 ]
> 
> proc.time()
   user  system elapsed 
 14.843   0.782  18.528 

Example timings

sesame.Rcheck/sesame-Ex.timings

nameusersystemelapsed
BetaValueToMValue0.0010.0000.000
DML5.1490.2075.717
DMLpredict0.7170.0300.769
DMR6.4240.1838.313
ELBAR11.505 0.34012.872
MValueToBetaValue000
SigDF0.2440.0170.260
addMask0.0550.0000.056
betasCollapseToPfx0.0100.0000.011
bisConversionControl3.3990.0664.109
calcEffectSize0.6920.0230.746
checkLevels3.4470.0593.871
cnSegmentation0.1660.0170.183
compareMouseStrainReference7.6850.3448.816
compareMouseTissueReference000
compareReference7.9980.1549.101
controls1.2290.0391.838
createUCSCtrack3.7440.1305.214
deidentify4.0410.0675.432
detectionPnegEcdf0.6390.0000.684
diffRefSet10.926 0.24311.984
dmContrasts1.4550.0311.791
dyeBiasCorr1.7320.1301.883
dyeBiasCorrMostBalanced5.1300.1116.133
dyeBiasL1.8920.0732.098
dyeBiasNL4.3700.1224.936
estimateLeukocyte6.1090.1217.160
formatVCF1.3200.0461.521
getAFTypeIbySumAlleles0.8950.0430.986
getAFs0.7190.0150.739
getBetas0.4810.0180.667
getMask3.5790.1144.009
getRefSet8.8260.0699.730
imputeBetas13.334 0.23918.413
imputeBetasByGenomicNeighbors26.939 0.64834.889
imputeBetasMatrixByMean0.0000.0010.001
inferEthnicity0.0010.0000.000
inferInfiniumIChannel0.1770.1320.344
inferSex17.450 0.24522.957
inferSpecies13.476 0.82517.617
inferStrain5.1750.4977.291
inferTissue4.8940.1436.181
initFileSet0.6300.0230.694
listAvailableMasks0.6450.0220.855
mLiftOver000
mapFileSet0.0240.0000.050
mapToMammal401.3060.0591.526
matchDesign7.6540.0509.183
meanIntensity1.8330.0502.720
medianTotalIntensity0.7290.0170.749
noMasked2.2130.0432.806
noob1.3410.1162.904
openSesame2.9830.1373.399
openSesameToFile2.3680.0342.537
pOOBAH0.9050.0040.980
palgen0.0280.0020.036
parseGEOsignalMU1.9810.0472.313
predictAge1.6180.0311.843
predictAgeHorvath3530.0000.0000.001
predictAgeSkinBlood000
predictMouseAgeInMonth000
prefixMask0.3860.0000.422
prefixMaskButC0.1120.0000.112
prefixMaskButCG0.0470.0000.047
prepSesame2.5080.0242.586
prepSesameList0.0010.0000.001
print.DMLSummary2.1420.0533.447
print.fileSet0.6720.0290.790
probeID_designType0.0000.0000.001
probeSuccessRate3.2800.0824.053
qualityMask1.4120.0572.940
reIdentify2.8140.0344.356
readFileSet0.0390.0020.043
readIDATpair0.0670.0000.068
recommendedMaskNames000
resetMask0.2290.0190.339
scrub1.5850.0021.609
scrubSoft2.3300.0002.431
sdfPlatform0.1830.0130.248
sdf_read_table4.8860.0975.520
sdf_write_table1.1290.0681.304
searchIDATprefixes0.0040.0000.010
sesame-package1.5910.0381.747
sesameAnno_attachManifest000
sesameAnno_buildAddressFile000
sesameAnno_buildManifestGRanges000
sesameAnno_download0.0000.0000.001
sesameAnno_readManifestTSV000
sesameQC_calcStats15.124 0.03322.080
sesameQC_getStats1.2030.0011.248
sesameQC_plotBar 9.966 0.11610.773
sesameQC_plotBetaByDesign6.9770.0017.694
sesameQC_plotHeatSNPs13.738 0.04816.109
sesameQC_plotIntensVsBetas1.1720.0221.285
sesameQC_plotRedGrnQQ1.0140.0471.209
sesameQC_rankStats2.0310.0442.389
sesameQCtoDF1.4300.0081.807
sesame_checkVersion0.0030.0000.004
sesamize000
setMask0.0590.0000.060
signalMU0.6620.0170.734
sliceFileSet0.0250.0000.025
summaryExtractTest2.3150.0442.479
totalIntensities1.5290.0511.957
updateSigDF1.9120.0752.513
visualizeGene6.0850.1317.152
visualizeProbes0.6820.0001.047
visualizeRegion0.2300.0000.462
visualizeSegments1.8190.0202.876