Back to Mac ARM64 build report for BioC 3.20 |
|
This page was generated on 2024-05-20 11:32:21 -0400 (Mon, 20 May 2024).
Hostname | OS | Arch (*) | R version | Installed pkgs |
---|---|---|---|---|
kjohnson1 | macOS 13.6.6 Ventura | arm64 | 4.4.0 Patched (2024-04-24 r86482) -- "Puppy Cup" | 4381 |
Click on any hostname to see more info about the system (e.g. compilers) (*) as reported by 'uname -p', except on Windows and Mac OS X |
Package 2051/2233 | Hostname | OS / Arch | INSTALL | BUILD | CHECK | BUILD BIN | ||||||||
switchBox 1.41.0 (landing page) Bahman Afsari
| kjohnson1 | macOS 13.6.6 Ventura / arm64 | OK | OK | WARNINGS | OK | ||||||||
To the developers/maintainers of the switchBox package: - Use the following Renviron settings to reproduce errors and warnings. - If 'R CMD check' started to fail recently on the Linux builder(s) over a missing dependency, add the missing dependency to 'Suggests:' in your DESCRIPTION file. See Renviron.bioc for more information. |
Package: switchBox |
Version: 1.41.0 |
Command: /Library/Frameworks/R.framework/Resources/bin/R CMD build --keep-empty-dirs --no-resave-data switchBox |
StartedAt: 2024-05-19 03:22:42 -0400 (Sun, 19 May 2024) |
EndedAt: 2024-05-19 03:22:59 -0400 (Sun, 19 May 2024) |
EllapsedTime: 17.1 seconds |
RetCode: 0 |
Status: OK |
PackageFile: switchBox_1.41.0.tar.gz |
PackageFileSize: 470.8 KiB |
############################################################################## ############################################################################## ### ### Running command: ### ### /Library/Frameworks/R.framework/Resources/bin/R CMD build --keep-empty-dirs --no-resave-data switchBox ### ############################################################################## ############################################################################## * checking for file ‘switchBox/DESCRIPTION’ ... OK * preparing ‘switchBox’: * checking DESCRIPTION meta-information ... OK * cleaning src * installing the package to build vignettes * creating vignettes ... OK Warning: ‘inst/doc’ files ‘switchBox.Rnw’, ‘switchBox.pdf’, ‘switchBox.R’ ignored as vignettes have been rebuilt. Run R CMD build with --no-build-vignettes to prevent rebuilding. * cleaning src * checking for LF line-endings in source and make files and shell scripts * checking for empty or unneeded directories * looking to see if a ‘data/datalist’ file should be added * building ‘switchBox_1.41.0.tar.gz’