Back to Mac ARM64 build report for BioC 3.20 |
|
This page was generated on 2024-05-13 11:32:05 -0400 (Mon, 13 May 2024).
Hostname | OS | Arch (*) | R version | Installed pkgs |
---|---|---|---|---|
kjohnson1 | macOS 13.6.6 Ventura | arm64 | 4.4.0 Patched (2024-04-24 r86482) -- "Puppy Cup" | 4378 |
Click on any hostname to see more info about the system (e.g. compilers) (*) as reported by 'uname -p', except on Windows and Mac OS X |
Package 844/2230 | Hostname | OS / Arch | INSTALL | BUILD | CHECK | BUILD BIN | ||||||||
gINTomics 1.1.0 (landing page) Angelo Velle
| kjohnson1 | macOS 13.6.6 Ventura / arm64 | OK | OK | OK | OK | ||||||||
To the developers/maintainers of the gINTomics package: - Use the following Renviron settings to reproduce errors and warnings. - If 'R CMD check' started to fail recently on the Linux builder(s) over a missing dependency, add the missing dependency to 'Suggests:' in your DESCRIPTION file. See Renviron.bioc for more information. |
Package: gINTomics |
Version: 1.1.0 |
Command: rm -rf gINTomics.buildbin-libdir && mkdir gINTomics.buildbin-libdir && /Users/biocbuild/BBS/utils/build-universal.sh gINTomics_1.1.0.tar.gz /Library/Frameworks/R.framework/Resources/bin/R gINTomics.buildbin-libdir |
StartedAt: 2024-05-13 08:15:43 -0400 (Mon, 13 May 2024) |
EndedAt: 2024-05-13 08:17:20 -0400 (Mon, 13 May 2024) |
EllapsedTime: 96.9 seconds |
RetCode: 0 |
Status: OK |
PackageFile: gINTomics_1.1.0.tgz |
PackageFileSize: 3.848 MiB |
############################################################################## ############################################################################## ### ### Running command: ### ### rm -rf gINTomics.buildbin-libdir && mkdir gINTomics.buildbin-libdir && /Users/biocbuild/BBS/utils/build-universal.sh gINTomics_1.1.0.tar.gz /Library/Frameworks/R.framework/Resources/bin/R gINTomics.buildbin-libdir ### ############################################################################## ############################################################################## >>>>>>> >>>>>>> INSTALLATION WITH 'R CMD INSTALL --preclean --no-multiarch --library=gINTomics.buildbin-libdir gINTomics_1.1.0.tar.gz' >>>>>>> * installing *source* package ‘gINTomics’ ... ** using staged installation ** R [2024-05-13 08:16:01] [TRACE] [OmnipathR] Reading JSON from `/Users/biocbuild/Library/Caches/OmnipathR/cache.json` (encoding: UTF-8). [2024-05-13 08:16:01] [TRACE] [OmnipathR] JSON validation successful: TRUE [2024-05-13 08:16:01] [INFO] [OmnipathR] Initialized cache: `/Users/biocbuild/Library/Caches/OmnipathR`. [2024-05-13 08:16:01] [TRACE] [OmnipathR] Running on a build server, wiping cache. [2024-05-13 08:16:01] [TRACE] [OmnipathR] Cache is at `/Users/biocbuild/Library/Caches/OmnipathR`. [2024-05-13 08:16:01] [TRACE] [OmnipathR] Contains 6 files. [2024-05-13 08:16:01] [TRACE] [OmnipathR] Cache is locked: FALSE. [2024-05-13 08:16:01] [TRACE] [OmnipathR] Reading JSON from `/Users/biocbuild/Library/Caches/OmnipathR/cache.json` (encoding: UTF-8). [2024-05-13 08:16:01] [TRACE] [OmnipathR] JSON validation successful: TRUE [2024-05-13 08:16:01] [SUCCESS] [OmnipathR] Removing all cache contents from `/Users/biocbuild/Library/Caches/OmnipathR`. [2024-05-13 08:16:01] [TRACE] [OmnipathR] Pandoc version: `3.1.2`. [2024-05-13 08:16:01] [TRACE] [OmnipathR] Reading JSON from `/Library/Frameworks/R.framework/Versions/4.4-arm64/Resources/library/OmnipathR/db/db_def.json` (encoding: UTF-8). [2024-05-13 08:16:01] [TRACE] [OmnipathR] JSON validation successful: TRUE [2024-05-13 08:16:01] [TRACE] [OmnipathR] Reading JSON from `/Library/Frameworks/R.framework/Versions/4.4-arm64/Resources/library/OmnipathR/internal/magic_bytes.json` (encoding: UTF-8). [2024-05-13 08:16:01] [TRACE] [OmnipathR] JSON validation successful: TRUE [2024-05-13 08:16:01] [TRACE] [OmnipathR] Reading JSON from `/Library/Frameworks/R.framework/Versions/4.4-arm64/Resources/library/OmnipathR/internal/urls.json` (encoding: UTF-8). [2024-05-13 08:16:01] [TRACE] [OmnipathR] JSON validation successful: TRUE [2024-05-13 08:16:01] [TRACE] [OmnipathR] Reading JSON from `/Library/Frameworks/R.framework/Versions/4.4-arm64/Resources/library/OmnipathR/internal/id_types.json` (encoding: UTF-8). [2024-05-13 08:16:01] [TRACE] [OmnipathR] JSON validation successful: TRUE [2024-05-13 08:16:01] [TRACE] [OmnipathR] Cache locked: FALSE ** data ** inst ** byte-compile and prepare package for lazy loading [2024-05-13 08:16:23] [TRACE] [OmnipathR] Reading JSON from `/Users/biocbuild/Library/Caches/OmnipathR/cache.json` (encoding: UTF-8). [2024-05-13 08:16:23] [TRACE] [OmnipathR] JSON validation successful: TRUE [2024-05-13 08:16:23] [INFO] [OmnipathR] Initialized cache: `/Users/biocbuild/Library/Caches/OmnipathR`. [2024-05-13 08:16:23] [TRACE] [OmnipathR] Running on a build server, wiping cache. [2024-05-13 08:16:23] [TRACE] [OmnipathR] Cache is at `/Users/biocbuild/Library/Caches/OmnipathR`. [2024-05-13 08:16:23] [TRACE] [OmnipathR] Contains 1 files. [2024-05-13 08:16:23] [TRACE] [OmnipathR] Cache is locked: FALSE. [2024-05-13 08:16:23] [TRACE] [OmnipathR] Reading JSON from `/Users/biocbuild/Library/Caches/OmnipathR/cache.json` (encoding: UTF-8). [2024-05-13 08:16:23] [TRACE] [OmnipathR] JSON validation successful: TRUE [2024-05-13 08:16:23] [SUCCESS] [OmnipathR] Removing all cache contents from `/Users/biocbuild/Library/Caches/OmnipathR`. [2024-05-13 08:16:24] [TRACE] [OmnipathR] Pandoc version: `3.1.2`. [2024-05-13 08:16:24] [TRACE] [OmnipathR] Reading JSON from `/Library/Frameworks/R.framework/Versions/4.4-arm64/Resources/library/OmnipathR/db/db_def.json` (encoding: UTF-8). [2024-05-13 08:16:24] [TRACE] [OmnipathR] JSON validation successful: TRUE [2024-05-13 08:16:24] [TRACE] [OmnipathR] Reading JSON from `/Library/Frameworks/R.framework/Versions/4.4-arm64/Resources/library/OmnipathR/internal/magic_bytes.json` (encoding: UTF-8). [2024-05-13 08:16:24] [TRACE] [OmnipathR] JSON validation successful: TRUE [2024-05-13 08:16:24] [TRACE] [OmnipathR] Reading JSON from `/Library/Frameworks/R.framework/Versions/4.4-arm64/Resources/library/OmnipathR/internal/urls.json` (encoding: UTF-8). [2024-05-13 08:16:24] [TRACE] [OmnipathR] JSON validation successful: TRUE [2024-05-13 08:16:24] [TRACE] [OmnipathR] Reading JSON from `/Library/Frameworks/R.framework/Versions/4.4-arm64/Resources/library/OmnipathR/internal/id_types.json` (encoding: UTF-8). [2024-05-13 08:16:24] [TRACE] [OmnipathR] JSON validation successful: TRUE [2024-05-13 08:16:24] [TRACE] [OmnipathR] Cache locked: FALSE ** help *** installing help indices *** copying figures ** building package indices ** installing vignettes ** testing if installed package can be loaded from temporary location [2024-05-13 08:16:50] [TRACE] [OmnipathR] Reading JSON from `/Users/biocbuild/Library/Caches/OmnipathR/cache.json` (encoding: UTF-8). [2024-05-13 08:16:50] [TRACE] [OmnipathR] JSON validation successful: TRUE [2024-05-13 08:16:50] [INFO] [OmnipathR] Initialized cache: `/Users/biocbuild/Library/Caches/OmnipathR`. [2024-05-13 08:16:50] [TRACE] [OmnipathR] Running on a build server, wiping cache. [2024-05-13 08:16:50] [TRACE] [OmnipathR] Cache is at `/Users/biocbuild/Library/Caches/OmnipathR`. [2024-05-13 08:16:50] [TRACE] [OmnipathR] Contains 1 files. [2024-05-13 08:16:50] [TRACE] [OmnipathR] Cache is locked: FALSE. [2024-05-13 08:16:50] [TRACE] [OmnipathR] Reading JSON from `/Users/biocbuild/Library/Caches/OmnipathR/cache.json` (encoding: UTF-8). [2024-05-13 08:16:50] [TRACE] [OmnipathR] JSON validation successful: TRUE [2024-05-13 08:16:50] [SUCCESS] [OmnipathR] Removing all cache contents from `/Users/biocbuild/Library/Caches/OmnipathR`. [2024-05-13 08:16:50] [TRACE] [OmnipathR] Pandoc version: `3.1.2`. [2024-05-13 08:16:50] [TRACE] [OmnipathR] Reading JSON from `/Library/Frameworks/R.framework/Versions/4.4-arm64/Resources/library/OmnipathR/db/db_def.json` (encoding: UTF-8). [2024-05-13 08:16:50] [TRACE] [OmnipathR] JSON validation successful: TRUE [2024-05-13 08:16:50] [TRACE] [OmnipathR] Reading JSON from `/Library/Frameworks/R.framework/Versions/4.4-arm64/Resources/library/OmnipathR/internal/magic_bytes.json` (encoding: UTF-8). [2024-05-13 08:16:50] [TRACE] [OmnipathR] JSON validation successful: TRUE [2024-05-13 08:16:50] [TRACE] [OmnipathR] Reading JSON from `/Library/Frameworks/R.framework/Versions/4.4-arm64/Resources/library/OmnipathR/internal/urls.json` (encoding: UTF-8). [2024-05-13 08:16:50] [TRACE] [OmnipathR] JSON validation successful: TRUE [2024-05-13 08:16:50] [TRACE] [OmnipathR] Reading JSON from `/Library/Frameworks/R.framework/Versions/4.4-arm64/Resources/library/OmnipathR/internal/id_types.json` (encoding: UTF-8). [2024-05-13 08:16:50] [TRACE] [OmnipathR] JSON validation successful: TRUE [2024-05-13 08:16:50] [TRACE] [OmnipathR] Cache locked: FALSE ** testing if installed package can be loaded from final location [2024-05-13 08:17:12] [TRACE] [OmnipathR] Reading JSON from `/Users/biocbuild/Library/Caches/OmnipathR/cache.json` (encoding: UTF-8). [2024-05-13 08:17:12] [TRACE] [OmnipathR] JSON validation successful: TRUE [2024-05-13 08:17:12] [INFO] [OmnipathR] Initialized cache: `/Users/biocbuild/Library/Caches/OmnipathR`. [2024-05-13 08:17:12] [TRACE] [OmnipathR] Running on a build server, wiping cache. [2024-05-13 08:17:12] [TRACE] [OmnipathR] Cache is at `/Users/biocbuild/Library/Caches/OmnipathR`. [2024-05-13 08:17:12] [TRACE] [OmnipathR] Contains 1 files. [2024-05-13 08:17:12] [TRACE] [OmnipathR] Cache is locked: FALSE. [2024-05-13 08:17:12] [TRACE] [OmnipathR] Reading JSON from `/Users/biocbuild/Library/Caches/OmnipathR/cache.json` (encoding: UTF-8). [2024-05-13 08:17:12] [TRACE] [OmnipathR] JSON validation successful: TRUE [2024-05-13 08:17:12] [SUCCESS] [OmnipathR] Removing all cache contents from `/Users/biocbuild/Library/Caches/OmnipathR`. [2024-05-13 08:17:13] [TRACE] [OmnipathR] Pandoc version: `3.1.2`. [2024-05-13 08:17:13] [TRACE] [OmnipathR] Reading JSON from `/Library/Frameworks/R.framework/Versions/4.4-arm64/Resources/library/OmnipathR/db/db_def.json` (encoding: UTF-8). [2024-05-13 08:17:13] [TRACE] [OmnipathR] JSON validation successful: TRUE [2024-05-13 08:17:13] [TRACE] [OmnipathR] Reading JSON from `/Library/Frameworks/R.framework/Versions/4.4-arm64/Resources/library/OmnipathR/internal/magic_bytes.json` (encoding: UTF-8). [2024-05-13 08:17:13] [TRACE] [OmnipathR] JSON validation successful: TRUE [2024-05-13 08:17:13] [TRACE] [OmnipathR] Reading JSON from `/Library/Frameworks/R.framework/Versions/4.4-arm64/Resources/library/OmnipathR/internal/urls.json` (encoding: UTF-8). [2024-05-13 08:17:13] [TRACE] [OmnipathR] JSON validation successful: TRUE [2024-05-13 08:17:13] [TRACE] [OmnipathR] Reading JSON from `/Library/Frameworks/R.framework/Versions/4.4-arm64/Resources/library/OmnipathR/internal/id_types.json` (encoding: UTF-8). [2024-05-13 08:17:13] [TRACE] [OmnipathR] JSON validation successful: TRUE [2024-05-13 08:17:13] [TRACE] [OmnipathR] Cache locked: FALSE ** testing if installed package keeps a record of temporary installation path * DONE (gINTomics)