Back to Mac ARM64 build report for BioC 3.20 |
|
This page was generated on 2024-05-20 11:32:21 -0400 (Mon, 20 May 2024).
Hostname | OS | Arch (*) | R version | Installed pkgs |
---|---|---|---|---|
kjohnson1 | macOS 13.6.6 Ventura | arm64 | 4.4.0 Patched (2024-04-24 r86482) -- "Puppy Cup" | 4381 |
Click on any hostname to see more info about the system (e.g. compilers) (*) as reported by 'uname -p', except on Windows and Mac OS X |
Package 1991/2233 | Hostname | OS / Arch | INSTALL | BUILD | CHECK | BUILD BIN | ||||||||
SpliceWiz 1.7.0 (landing page) Alex Chit Hei Wong
| kjohnson1 | macOS 13.6.6 Ventura / arm64 | OK | OK | OK | OK | ||||||||
To the developers/maintainers of the SpliceWiz package: - Use the following Renviron settings to reproduce errors and warnings. - If 'R CMD check' started to fail recently on the Linux builder(s) over a missing dependency, add the missing dependency to 'Suggests:' in your DESCRIPTION file. See Renviron.bioc for more information. |
Package: SpliceWiz |
Version: 1.7.0 |
Command: /Library/Frameworks/R.framework/Resources/bin/R CMD check --install=check:SpliceWiz.install-out.txt --library=/Library/Frameworks/R.framework/Resources/library --no-vignettes --timings SpliceWiz_1.7.0.tar.gz |
StartedAt: 2024-05-20 03:57:23 -0400 (Mon, 20 May 2024) |
EndedAt: 2024-05-20 04:19:08 -0400 (Mon, 20 May 2024) |
EllapsedTime: 1305.3 seconds |
RetCode: 0 |
Status: OK |
CheckDir: SpliceWiz.Rcheck |
Warnings: 0 |
############################################################################## ############################################################################## ### ### Running command: ### ### /Library/Frameworks/R.framework/Resources/bin/R CMD check --install=check:SpliceWiz.install-out.txt --library=/Library/Frameworks/R.framework/Resources/library --no-vignettes --timings SpliceWiz_1.7.0.tar.gz ### ############################################################################## ############################################################################## * using log directory ‘/Users/biocbuild/bbs-3.20-bioc-mac-arm64/meat/SpliceWiz.Rcheck’ * using R version 4.4.0 Patched (2024-04-24 r86482) * using platform: aarch64-apple-darwin20 * R was compiled by Apple clang version 14.0.0 (clang-1400.0.29.202) GNU Fortran (GCC) 12.2.0 * running under: macOS Ventura 13.6.6 * using session charset: UTF-8 * using option ‘--no-vignettes’ * checking for file ‘SpliceWiz/DESCRIPTION’ ... OK * this is package ‘SpliceWiz’ version ‘1.7.0’ * package encoding: UTF-8 * checking package namespace information ... OK * checking package dependencies ... OK * checking if this is a source package ... OK * checking if there is a namespace ... OK * checking for hidden files and directories ... OK * checking for portable file names ... OK * checking for sufficient/correct file permissions ... OK * checking whether package ‘SpliceWiz’ can be installed ... OK * used C++ compiler: ‘Apple clang version 15.0.0 (clang-1500.0.40.1)’ * used SDK: ‘MacOSX11.3.sdk’ * checking C++ specification ... NOTE Specified C++11: please drop specification unless essential * checking installed package size ... OK * checking package directory ... OK * checking ‘build’ directory ... OK * checking DESCRIPTION meta-information ... NOTE License stub is invalid DCF. * checking top-level files ... OK * checking for left-over files ... OK * checking index information ... OK * checking package subdirectories ... OK * checking code files for non-ASCII characters ... OK * checking R files for syntax errors ... OK * checking whether the package can be loaded ... OK * checking whether the package can be loaded with stated dependencies ... OK * checking whether the package can be unloaded cleanly ... OK * checking whether the namespace can be loaded with stated dependencies ... OK * checking whether the namespace can be unloaded cleanly ... OK * checking whether startup messages can be suppressed ... OK * checking dependencies in R code ... OK * checking S3 generic/method consistency ... OK * checking replacement functions ... OK * checking foreign function calls ... OK * checking R code for possible problems ... OK * checking Rd files ... OK * checking Rd metadata ... OK * checking Rd cross-references ... OK * checking for missing documentation entries ... OK * checking for code/documentation mismatches ... OK * checking Rd \usage sections ... OK * checking Rd contents ... OK * checking for unstated dependencies in examples ... OK * checking line endings in shell scripts ... OK * checking line endings in C/C++/Fortran sources/headers ... OK * checking line endings in Makefiles ... OK * checking compilation flags in Makevars ... OK * checking for GNU extensions in Makefiles ... OK * checking for portable use of $(BLAS_LIBS) and $(LAPACK_LIBS) ... OK * checking use of PKG_*FLAGS in Makefiles ... OK * checking compiled code ... NOTE Note: information on .o files is not available * checking files in ‘vignettes’ ... OK * checking examples ... OK Examples with CPU (user + system) or elapsed time > 5s user system elapsed NxtSE-class 65.742 1.043 67.238 Build-Reference-methods 63.828 1.331 68.069 ASE-methods 35.932 0.291 36.642 covPlotObject-class 22.083 0.487 22.652 plotCoverage 14.004 0.146 14.219 Run_SpliceWiz_Filters 9.215 0.040 9.291 processBAM 5.308 0.711 4.206 * checking for unstated dependencies in ‘tests’ ... OK * checking tests ... Running ‘testthat.R’ OK * checking for unstated dependencies in vignettes ... OK * checking package vignettes ... OK * checking running R code from vignettes ... SKIPPED * checking re-building of vignette outputs ... SKIPPED * checking PDF version of manual ... OK * DONE Status: 3 NOTEs See ‘/Users/biocbuild/bbs-3.20-bioc-mac-arm64/meat/SpliceWiz.Rcheck/00check.log’ for details.
SpliceWiz.Rcheck/00install.out
############################################################################## ############################################################################## ### ### Running command: ### ### /Library/Frameworks/R.framework/Resources/bin/R CMD INSTALL SpliceWiz ### ############################################################################## ############################################################################## * installing to library ‘/Library/Frameworks/R.framework/Versions/4.4-arm64/Resources/library’ * installing *source* package ‘SpliceWiz’ ... ** using staged installation Configuring without OpenMP for MacOS ** libs using C++ compiler: ‘Apple clang version 15.0.0 (clang-1500.0.40.1)’ using C++11 using SDK: ‘MacOSX11.3.sdk’ clang++ -arch arm64 -std=gnu++11 -I"/Library/Frameworks/R.framework/Resources/include" -DNDEBUG -I'/Library/Frameworks/R.framework/Versions/4.4-arm64/Resources/library/ompBAM/include' -I'/Library/Frameworks/R.framework/Versions/4.4-arm64/Resources/library/Rcpp/include' -I'/Library/Frameworks/R.framework/Versions/4.4-arm64/Resources/library/zlibbioc/include' -I'/Library/Frameworks/R.framework/Versions/4.4-arm64/Resources/library/RcppProgress/include' -I/opt/R/arm64/include -DSPLICEWIZ -fPIC -falign-functions=64 -Wall -g -O2 -c BAM2blocks.cpp -o BAM2blocks.o clang++ -arch arm64 -std=gnu++11 -I"/Library/Frameworks/R.framework/Resources/include" -DNDEBUG -I'/Library/Frameworks/R.framework/Versions/4.4-arm64/Resources/library/ompBAM/include' -I'/Library/Frameworks/R.framework/Versions/4.4-arm64/Resources/library/Rcpp/include' -I'/Library/Frameworks/R.framework/Versions/4.4-arm64/Resources/library/zlibbioc/include' -I'/Library/Frameworks/R.framework/Versions/4.4-arm64/Resources/library/RcppProgress/include' -I/opt/R/arm64/include -DSPLICEWIZ -fPIC -falign-functions=64 -Wall -g -O2 -c FastaReader.cpp -o FastaReader.o clang++ -arch arm64 -std=gnu++11 -I"/Library/Frameworks/R.framework/Resources/include" -DNDEBUG -I'/Library/Frameworks/R.framework/Versions/4.4-arm64/Resources/library/ompBAM/include' -I'/Library/Frameworks/R.framework/Versions/4.4-arm64/Resources/library/Rcpp/include' -I'/Library/Frameworks/R.framework/Versions/4.4-arm64/Resources/library/zlibbioc/include' -I'/Library/Frameworks/R.framework/Versions/4.4-arm64/Resources/library/RcppProgress/include' -I/opt/R/arm64/include -DSPLICEWIZ -fPIC -falign-functions=64 -Wall -g -O2 -c FragmentBlocks.cpp -o FragmentBlocks.o clang++ -arch arm64 -std=gnu++11 -I"/Library/Frameworks/R.framework/Resources/include" -DNDEBUG -I'/Library/Frameworks/R.framework/Versions/4.4-arm64/Resources/library/ompBAM/include' -I'/Library/Frameworks/R.framework/Versions/4.4-arm64/Resources/library/Rcpp/include' -I'/Library/Frameworks/R.framework/Versions/4.4-arm64/Resources/library/zlibbioc/include' -I'/Library/Frameworks/R.framework/Versions/4.4-arm64/Resources/library/RcppProgress/include' -I/opt/R/arm64/include -DSPLICEWIZ -fPIC -falign-functions=64 -Wall -g -O2 -c GZTools.cpp -o GZTools.o clang++ -arch arm64 -std=gnu++11 -I"/Library/Frameworks/R.framework/Resources/include" -DNDEBUG -I'/Library/Frameworks/R.framework/Versions/4.4-arm64/Resources/library/ompBAM/include' -I'/Library/Frameworks/R.framework/Versions/4.4-arm64/Resources/library/Rcpp/include' -I'/Library/Frameworks/R.framework/Versions/4.4-arm64/Resources/library/zlibbioc/include' -I'/Library/Frameworks/R.framework/Versions/4.4-arm64/Resources/library/RcppProgress/include' -I/opt/R/arm64/include -DSPLICEWIZ -fPIC -falign-functions=64 -Wall -g -O2 -c RcppExports.cpp -o RcppExports.o clang++ -arch arm64 -std=gnu++11 -I"/Library/Frameworks/R.framework/Resources/include" -DNDEBUG -I'/Library/Frameworks/R.framework/Versions/4.4-arm64/Resources/library/ompBAM/include' -I'/Library/Frameworks/R.framework/Versions/4.4-arm64/Resources/library/Rcpp/include' -I'/Library/Frameworks/R.framework/Versions/4.4-arm64/Resources/library/zlibbioc/include' -I'/Library/Frameworks/R.framework/Versions/4.4-arm64/Resources/library/RcppProgress/include' -I/opt/R/arm64/include -DSPLICEWIZ -fPIC -falign-functions=64 -Wall -g -O2 -c ReadBlockProcessor.cpp -o ReadBlockProcessor.o clang++ -arch arm64 -std=gnu++11 -I"/Library/Frameworks/R.framework/Resources/include" -DNDEBUG -I'/Library/Frameworks/R.framework/Versions/4.4-arm64/Resources/library/ompBAM/include' -I'/Library/Frameworks/R.framework/Versions/4.4-arm64/Resources/library/Rcpp/include' -I'/Library/Frameworks/R.framework/Versions/4.4-arm64/Resources/library/zlibbioc/include' -I'/Library/Frameworks/R.framework/Versions/4.4-arm64/Resources/library/RcppProgress/include' -I/opt/R/arm64/include -DSPLICEWIZ -fPIC -falign-functions=64 -Wall -g -O2 -c ReadBlockProcessor_CoverageBlocks.cpp -o ReadBlockProcessor_CoverageBlocks.o ReadBlockProcessor_CoverageBlocks.cpp:251:16: warning: variable 'len' set but not used [-Wunused-but-set-variable] unsigned int len=0; ^ 1 warning generated. clang++ -arch arm64 -std=gnu++11 -I"/Library/Frameworks/R.framework/Resources/include" -DNDEBUG -I'/Library/Frameworks/R.framework/Versions/4.4-arm64/Resources/library/ompBAM/include' -I'/Library/Frameworks/R.framework/Versions/4.4-arm64/Resources/library/Rcpp/include' -I'/Library/Frameworks/R.framework/Versions/4.4-arm64/Resources/library/zlibbioc/include' -I'/Library/Frameworks/R.framework/Versions/4.4-arm64/Resources/library/RcppProgress/include' -I/opt/R/arm64/include -DSPLICEWIZ -fPIC -falign-functions=64 -Wall -g -O2 -c ReadBlockProcessor_FragmentsMap.cpp -o ReadBlockProcessor_FragmentsMap.o clang++ -arch arm64 -std=gnu++11 -I"/Library/Frameworks/R.framework/Resources/include" -DNDEBUG -I'/Library/Frameworks/R.framework/Versions/4.4-arm64/Resources/library/ompBAM/include' -I'/Library/Frameworks/R.framework/Versions/4.4-arm64/Resources/library/Rcpp/include' -I'/Library/Frameworks/R.framework/Versions/4.4-arm64/Resources/library/zlibbioc/include' -I'/Library/Frameworks/R.framework/Versions/4.4-arm64/Resources/library/RcppProgress/include' -I/opt/R/arm64/include -DSPLICEWIZ -fPIC -falign-functions=64 -Wall -g -O2 -c ReadBlockProcessor_TandemJunctions.cpp -o ReadBlockProcessor_TandemJunctions.o clang++ -arch arm64 -std=gnu++11 -I"/Library/Frameworks/R.framework/Resources/include" -DNDEBUG -I'/Library/Frameworks/R.framework/Versions/4.4-arm64/Resources/library/ompBAM/include' -I'/Library/Frameworks/R.framework/Versions/4.4-arm64/Resources/library/Rcpp/include' -I'/Library/Frameworks/R.framework/Versions/4.4-arm64/Resources/library/zlibbioc/include' -I'/Library/Frameworks/R.framework/Versions/4.4-arm64/Resources/library/RcppProgress/include' -I/opt/R/arm64/include -DSPLICEWIZ -fPIC -falign-functions=64 -Wall -g -O2 -c covTools.cpp -o covTools.o clang++ -arch arm64 -std=gnu++11 -I"/Library/Frameworks/R.framework/Resources/include" -DNDEBUG -I'/Library/Frameworks/R.framework/Versions/4.4-arm64/Resources/library/ompBAM/include' -I'/Library/Frameworks/R.framework/Versions/4.4-arm64/Resources/library/Rcpp/include' -I'/Library/Frameworks/R.framework/Versions/4.4-arm64/Resources/library/zlibbioc/include' -I'/Library/Frameworks/R.framework/Versions/4.4-arm64/Resources/library/RcppProgress/include' -I/opt/R/arm64/include -DSPLICEWIZ -fPIC -falign-functions=64 -Wall -g -O2 -c main.cpp -o main.o clang++ -arch arm64 -std=gnu++11 -I"/Library/Frameworks/R.framework/Resources/include" -DNDEBUG -I'/Library/Frameworks/R.framework/Versions/4.4-arm64/Resources/library/ompBAM/include' -I'/Library/Frameworks/R.framework/Versions/4.4-arm64/Resources/library/Rcpp/include' -I'/Library/Frameworks/R.framework/Versions/4.4-arm64/Resources/library/zlibbioc/include' -I'/Library/Frameworks/R.framework/Versions/4.4-arm64/Resources/library/RcppProgress/include' -I/opt/R/arm64/include -DSPLICEWIZ -fPIC -falign-functions=64 -Wall -g -O2 -c swEngine.cpp -o swEngine.o clang++ -arch arm64 -std=gnu++11 -I"/Library/Frameworks/R.framework/Resources/include" -DNDEBUG -I'/Library/Frameworks/R.framework/Versions/4.4-arm64/Resources/library/ompBAM/include' -I'/Library/Frameworks/R.framework/Versions/4.4-arm64/Resources/library/Rcpp/include' -I'/Library/Frameworks/R.framework/Versions/4.4-arm64/Resources/library/zlibbioc/include' -I'/Library/Frameworks/R.framework/Versions/4.4-arm64/Resources/library/RcppProgress/include' -I/opt/R/arm64/include -DSPLICEWIZ -fPIC -falign-functions=64 -Wall -g -O2 -c synthReadGenerator.cpp -o synthReadGenerator.o clang++ -arch arm64 -std=gnu++11 -dynamiclib -Wl,-headerpad_max_install_names -undefined dynamic_lookup -L/Library/Frameworks/R.framework/Resources/lib -L/opt/R/arm64/lib -o SpliceWiz.so BAM2blocks.o FastaReader.o FragmentBlocks.o GZTools.o RcppExports.o ReadBlockProcessor.o ReadBlockProcessor_CoverageBlocks.o ReadBlockProcessor_FragmentsMap.o ReadBlockProcessor_TandemJunctions.o covTools.o main.o swEngine.o synthReadGenerator.o -DSPLICEWIZ -F/Library/Frameworks/R.framework/.. -framework R -Wl,-framework -Wl,CoreFoundation installing to /Library/Frameworks/R.framework/Versions/4.4-arm64/Resources/library/00LOCK-SpliceWiz/00new/SpliceWiz/libs ** R ** inst ** byte-compile and prepare package for lazy loading ** help *** installing help indices ** building package indices ** installing vignettes ** testing if installed package can be loaded from temporary location ** checking absolute paths in shared objects and dynamic libraries ** testing if installed package can be loaded from final location ** testing if installed package keeps a record of temporary installation path * DONE (SpliceWiz)
SpliceWiz.Rcheck/tests/testthat.Rout
R version 4.4.0 Patched (2024-04-24 r86482) -- "Puppy Cup" Copyright (C) 2024 The R Foundation for Statistical Computing Platform: aarch64-apple-darwin20 R is free software and comes with ABSOLUTELY NO WARRANTY. You are welcome to redistribute it under certain conditions. Type 'license()' or 'licence()' for distribution details. R is a collaborative project with many contributors. Type 'contributors()' for more information and 'citation()' on how to cite R or R packages in publications. Type 'demo()' for some demos, 'help()' for on-line help, or 'help.start()' for an HTML browser interface to help. Type 'q()' to quit R. > library(testthat) > library(SpliceWiz) Loading required package: NxtIRFdata SpliceWiz package loaded with 1 threads Use setSWthreads() to set the number of SpliceWiz threads > > test_check("SpliceWiz") Loading required package: Rsubread May 20 04:08:15 Converting FASTA to local TwoBitFile...done May 20 04:08:16 Connecting to genome TwoBitFile...done May 20 04:08:16 Making local copy of GTF file...done May 20 04:08:16 Extracting temp genome FASTA from TwoBit file May 20 04:08:18 Generating synthetic reads, saving to /private/tmp/RtmpJPFxax/refWithMapExcl/Mappability/Reads.fa 0% 10 20 30 40 50 60 70 80 90 100% [----|----|----|----|----|----|----|----|----|----| **************************************************| 10145 synthetic reads generated May 20 04:08:18 Cleaning temp genome / gene annotation files ========== _____ _ _ ____ _____ ______ _____ ===== / ____| | | | _ \| __ \| ____| /\ | __ \ ===== | (___ | | | | |_) | |__) | |__ / \ | | | | ==== \___ \| | | | _ <| _ /| __| / /\ \ | | | | ==== ____) | |__| | |_) | | \ \| |____ / ____ \| |__| | ========== |_____/ \____/|____/|_| \_\______/_/ \_\_____/ Rsubread 2.19.0 //================================= setting ==================================\\ || || || Index name : reference_index || || Index space : base space || || Index split : no-split || || Repeat threshold : 100 repeats || || Gapped index : no || || || || Free / total memory : 36.0GB / 64.0GB || || || || Input files : 1 file in total || || o genome.fa || || || \\============================================================================// //================================= Running ==================================\\ || || || Check the integrity of provided reference sequences ... || || No format issues were found || || Scan uninformative subreads in reference sequences ... || || Estimate the index size... || || 8%, 0 mins elapsed, rate=89.4k bps/s || || 16%, 0 mins elapsed, rate=174.1k bps/s || || 24%, 0 mins elapsed, rate=254.6k bps/s || || 33%, 0 mins elapsed, rate=331.6k bps/s || || 41%, 0 mins elapsed, rate=405.7k bps/s || || 49%, 0 mins elapsed, rate=477.1k bps/s || || 58%, 0 mins elapsed, rate=544.7k bps/s || || 66%, 0 mins elapsed, rate=608.7k bps/s || || 74%, 0 mins elapsed, rate=671.0k bps/s || || 83%, 0 mins elapsed, rate=731.3k bps/s || || 91%, 0 mins elapsed, rate=788.7k bps/s || || 3.0 GB of memory is needed for index building. || || Build the index... || || 8%, 0 mins elapsed, rate=6.6k bps/s || || 16%, 0 mins elapsed, rate=13.1k bps/s || || 24%, 0 mins elapsed, rate=19.6k bps/s || || 33%, 0 mins elapsed, rate=26.0k bps/s || || 41%, 0 mins elapsed, rate=32.3k bps/s || || 49%, 0 mins elapsed, rate=38.6k bps/s || || 58%, 0 mins elapsed, rate=44.8k bps/s || || 66%, 0 mins elapsed, rate=51.0k bps/s || || 74%, 0 mins elapsed, rate=57.1k bps/s || || 83%, 0 mins elapsed, rate=63.1k bps/s || || 91%, 0 mins elapsed, rate=69.1k bps/s || || Save current index block... || || [ 0.0% finished ] || || [ 10.0% finished ] || || [ 20.0% finished ] || || [ 30.0% finished ] || || [ 40.0% finished ] || || [ 50.0% finished ] || || [ 60.0% finished ] || || [ 70.0% finished ] || || [ 80.0% finished ] || || [ 90.0% finished ] || || [ 100.0% finished ] || || || || Total running time: 0.3 minutes. || || Index ./reference_index was successfully built. || || || \\============================================================================// ========== _____ _ _ ____ _____ ______ _____ ===== / ____| | | | _ \| __ \| ____| /\ | __ \ ===== | (___ | | | | |_) | |__) | |__ / \ | | | | ==== \___ \| | | | _ <| _ /| __| / /\ \ | | | | ==== ____) | |__| | |_) | | \ \| |____ / ____ \| |__| | ========== |_____/ \____/|____/|_| \_\______/_/ \_\_____/ Rsubread 2.19.0 //================================= setting ==================================\\ || || || Function : Read alignment + Junction detection (RNA-Seq) || || Input file : Reads.fa || || Output file : AlignedReads.bam (BAM) || || Index name : reference_index || || || || ------------------------------------ || || || || Threads : 1 || || Phred offset : 33 || || Min votes : 1 / 14 || || Max mismatches : 3 || || Max indel length : 5 || || Report multi-mapping reads : yes || || Max alignments per multi-mapping read : 1 || || Annotations : transcripts.gtf (GTF) || || || \\============================================================================// //================ Running (20-May-2024 04:08:36, pid=24851) =================\\ || || || Check the input reads. || || The input file contains base space reads. || || Initialise the memory objects. || || Estimate the mean read length. || || Create the output BAM file. || || Check the index. || || Init the voting space. || || Load the annotation file. || || 538 annotation records were loaded. || || Global environment is initialised. || || Load the 1-th index block... || || The index block has been loaded. || || Start read mapping in chunk. || || 65% completed, 6.2 mins elapsed, rate=32.4k reads per second || || 83% completed, 6.2 mins elapsed, rate=0.0k reads per second || || 99% completed, 6.2 mins elapsed, rate=0.0k reads per second || || || || Completed successfully. || || || \\==================================== ====================================// //================================ Summary =================================\\ || || || Total reads : 10,145 || || Mapped : 10,145 (100.0%) || || Uniquely mapped : 10,145 || || Multi-mapping : 0 || || || || Unmapped : 0 || || || || Junctions : 0 || || Indels : 1 || || || || Running time : 6.2 minutes || || || \\============================================================================// May 20 04:14:48 Calculating Mappability Exclusion regions from: /tmp/RtmpJPFxax/refWithMapExcl/Mappability/AlignedReads.bam Calculating Mappability Exclusions: /private/tmp/RtmpJPFxax/refWithMapExcl/Mappability/AlignedReads.bam 0% 10 20 30 40 50 60 70 80 90 100% [----|----|----|----|----|----|----|----|----|----| **************************************************| Performing final sort of fragment maps Writing Mappability Exclusions **************************************************| 0% 10 20 30 40 50 60 70 80 90 100% [----|----|----|----|----|----|----|----|----|----| **************************************************| SpliceWiz was compiled without OpenMP May 20 04:14:51 Reference generated without non-polyA reference May 20 04:14:51 Reference generated without Mappability reference May 20 04:14:51 Reference generated without Blacklist exclusion May 20 04:14:51 Converting FASTA to local TwoBitFile...done May 20 04:14:53 Connecting to genome TwoBitFile...done May 20 04:14:53 Making local copy of GTF file...done May 20 04:14:53 Reading source GTF file...done May 20 04:14:53 Processing gtf file... ...genes ...transcripts ...CDS ...exons done May 20 04:14:54 Gene ontology not prepared for this reference May 20 04:14:57 Processing introns... ...data ...basic annotations ...splice motifs ...other info ...defining flanking exon clusters done May 20 04:15:02 Generating processBAM reference ...prepping data ...determining measurable introns (directional) ...determining measurable introns (non-directional) ...writing ref-cover.bed ...writing ref-ROI.bed ...writing ref-read-continues.ref ...writing ref-sj.ref ...writing ref-tj.ref processBAM reference generated May 20 04:15:10 Predicting NMD transcripts from genome sequence ...exonic transcripts ...retained introns | | | 0% | |======================================================================| 100% done May 20 04:15:13 Annotating Splice Events Annotating Mutually-Exclusive-Exon Splice Events...done Annotating Skipped-Exon Splice Events...done Annotating Alternate 5' / 3' Splice Site Splice Events...done Annotating Alternate First / Last Exon Splice Events...done Annotating known retained introns...done May 20 04:15:14 Splice Annotations Filtered May 20 04:15:16 Translating Alternate Splice Peptides...done May 20 04:15:16 Splice Annotations finished Reference build finished May 20 04:15:17 Running SpliceWiz processBAM May 20 04:15:19 Using MulticoreParam 1 threads Reading reference file Allocating memory to 1 threads for SpliceWiz (ompBAM)...initialized (0 milliseconds) Processing BAM file /private/tmp/RtmpJPFxax/02H003.bam 0% 10 20 30 40 50 60 70 80 90 100% [----|----|----|----|----|----|----|----|----|----| **************************************************| Performing final sort of fragment maps Writing COV file **************************************************| 0% 10 20 30 40 50 60 70 80 90 100% [----|----|----|----|----|----|----|----|----|----| **************************************************| Writing output file /private/tmp/RtmpJPFxax/02H003.bam processed (526 milliseconds) May 20 04:15:19 SpliceWiz processBAM processed RtmpJPFxax/02H003.bam May 20 04:15:19 Running SpliceWiz processBAM May 20 04:15:21 Using MulticoreParam 1 threads Reading reference file Allocating memory to 1 threads for SpliceWiz (ompBAM)...initialized (0 milliseconds) Processing BAM file /private/tmp/RtmpJPFxax/02H003.bam 0% 10 20 30 40 50 60 70 80 90 100% [----|----|----|----|----|----|----|----|----|----| **************************************************| Performing final sort of fragment maps Writing COV file **************************************************| 0% 10 20 30 40 50 60 70 80 90 100% [----|----|----|----|----|----|----|----|----|----| **************************************************| Writing output file /private/tmp/RtmpJPFxax/02H003.bam processed (526 milliseconds) May 20 04:15:21 SpliceWiz processBAM processed RtmpJPFxax/02H003.bam May 20 04:15:22 Reference generated without non-polyA reference May 20 04:15:22 Reference generated without Mappability reference May 20 04:15:22 Reference generated without Blacklist exclusion May 20 04:15:22 Converting FASTA to local TwoBitFile...done May 20 04:15:23 Connecting to genome TwoBitFile...done May 20 04:15:23 Making local copy of GTF file...done May 20 04:15:23 Reading source GTF file...done May 20 04:15:23 Processing gtf file... ...genes ...transcripts ...CDS May 20 04:15:23 No protein information detected in reference! For full functionality, ensure there are valid entries with type == `CDS` in the gtf file. Protein reference and NMD annotation is skipped. ...exons done May 20 04:15:24 Gene ontology not prepared for this reference May 20 04:15:27 Processing introns... ...data ...basic annotations ...splice motifs ...other info ...defining flanking exon clusters done May 20 04:15:31 Generating processBAM reference ...prepping data ...determining measurable introns (directional) ...determining measurable introns (non-directional) ...writing ref-cover.bed ...writing ref-ROI.bed ...writing ref-read-continues.ref ...writing ref-sj.ref ...writing ref-tj.ref processBAM reference generated May 20 04:15:39 Annotating Splice Events Annotating Mutually-Exclusive-Exon Splice Events...done Annotating Skipped-Exon Splice Events...done Annotating Alternate 5' / 3' Splice Site Splice Events...done Annotating Alternate First / Last Exon Splice Events...done Annotating known retained introns...done May 20 04:15:40 Splice Annotations Filtered Reference build finished May 20 04:15:43 Running SpliceWiz processBAM May 20 04:15:45 Using MulticoreParam 1 threads Allocating memory to 1 threads for SpliceWiz (ompBAM)...initialized (0 milliseconds) /private/tmp/RtmpJPFxax/02H003.bam processed (520 milliseconds) May 20 04:15:45 SpliceWiz processBAM processed RtmpJPFxax/02H003.bam Allocating memory to 1 threads for SpliceWiz (ompBAM)...initialized (0 milliseconds) /private/tmp/RtmpJPFxax/02H025.bam processed (424 milliseconds) May 20 04:15:45 SpliceWiz processBAM processed RtmpJPFxax/02H025.bam Allocating memory to 1 threads for SpliceWiz (ompBAM)...initialized (0 milliseconds) /private/tmp/RtmpJPFxax/02H026.bam processed (621 milliseconds) May 20 04:15:46 SpliceWiz processBAM processed RtmpJPFxax/02H026.bam Allocating memory to 1 threads for SpliceWiz (ompBAM)...initialized (0 milliseconds) /private/tmp/RtmpJPFxax/02H033.bam processed (651 milliseconds) May 20 04:15:47 SpliceWiz processBAM processed RtmpJPFxax/02H033.bam Allocating memory to 1 threads for SpliceWiz (ompBAM)...initialized (0 milliseconds) /private/tmp/RtmpJPFxax/02H043.bam processed (414 milliseconds) May 20 04:15:47 SpliceWiz processBAM processed RtmpJPFxax/02H043.bam Allocating memory to 1 threads for SpliceWiz (ompBAM)...initialized (0 milliseconds) /private/tmp/RtmpJPFxax/02H046.bam processed (591 milliseconds) May 20 04:15:48 SpliceWiz processBAM processed RtmpJPFxax/02H046.bam May 20 04:15:49 Using MulticoreParam 1 threads May 20 04:15:49 Validating Experiment; checking COV files... May 20 04:15:49 Compiling Sample Stats May 20 04:15:49 Compiling Junction List...merging...done May 20 04:15:51 Compiling Junction Stats...merging...done May 20 04:16:00 Compiling Intron Retention List...done May 20 04:16:01 Tidying up splice junctions and intron retentions... ...annotating splice junctions ...copying splicing reference ...grouping splice junctions ...grouping introns ...loading splice events ...compiling rowEvents done May 20 04:16:14 Generating NxtSE assays May 20 04:16:16 Using MulticoreParam 1 threads | | | 0% | |============ | 17% | |======================= | 33% | |=================================== | 50% | |=============================================== | 67% | |========================================================== | 83% | |======================================================================| 100% May 20 04:16:34 Building Final NxtSE Object May 20 04:16:34 ...consolidating assays to H5 file May 20 04:16:36 ...packaging reference May 20 04:16:36 ...synthesising NxtSE May 20 04:16:37 ...determining how overlapping introns should be removed May 20 04:16:40 SpliceWiz (NxtSE) Collation Finished May 20 04:16:40 Loading NxtSE object from file... May 20 04:16:40 ...loading reference (NxtSE) May 20 04:16:40 ...linking assays May 20 04:16:40 ...linking COV files May 20 04:16:40 ...loading rowData May 20 04:16:40 ...removing overlapping introns... May 20 04:16:40 NxtSE loaded May 20 04:16:41 SpliceWiz reference already exists in given directory May 20 04:16:41 Running SpliceWiz processBAM May 20 04:16:42 Using MulticoreParam 1 threads Allocating memory to 1 threads for SpliceWiz (ompBAM)...initialized (0 milliseconds) /private/tmp/RtmpJPFxax/02H003.bam processed (521 milliseconds) May 20 04:16:43 SpliceWiz processBAM processed RtmpJPFxax/02H003.bam Allocating memory to 1 threads for SpliceWiz (ompBAM)...initialized (0 milliseconds) /private/tmp/RtmpJPFxax/02H025.bam processed (433 milliseconds) May 20 04:16:43 SpliceWiz processBAM processed RtmpJPFxax/02H025.bam Allocating memory to 1 threads for SpliceWiz (ompBAM)...initialized (0 milliseconds) /private/tmp/RtmpJPFxax/02H026.bam processed (646 milliseconds) May 20 04:16:44 SpliceWiz processBAM processed RtmpJPFxax/02H026.bam Allocating memory to 1 threads for SpliceWiz (ompBAM)...initialized (0 milliseconds) /private/tmp/RtmpJPFxax/02H033.bam processed (652 milliseconds) May 20 04:16:45 SpliceWiz processBAM processed RtmpJPFxax/02H033.bam Allocating memory to 1 threads for SpliceWiz (ompBAM)...initialized (0 milliseconds) /private/tmp/RtmpJPFxax/02H043.bam processed (400 milliseconds) May 20 04:16:45 SpliceWiz processBAM processed RtmpJPFxax/02H043.bam Allocating memory to 1 threads for SpliceWiz (ompBAM)...initialized (0 milliseconds) /private/tmp/RtmpJPFxax/02H046.bam processed (591 milliseconds) May 20 04:16:46 SpliceWiz processBAM processed RtmpJPFxax/02H046.bam May 20 04:16:47 Using MulticoreParam 1 threads May 20 04:16:47 Validating Experiment; checking COV files... May 20 04:16:47 Compiling Sample Stats May 20 04:16:47 Compiling Junction List...merging...done May 20 04:16:48 Compiling Junction Stats...merging...done May 20 04:16:58 Compiling Intron Retention List...done May 20 04:16:59 Compiling Tandem Junction List...merging...done May 20 04:17:01 Tidying up splice junctions and intron retentions... ...annotating splice junctions ...looking for novel exons May 20 04:17:05 Assembling novel splicing reference: ...loading reference FASTA/GTF ...injecting novel transcripts to GTF ...processing GTF ...processing introns from GTF ...annotating alternative splicing events done May 20 04:17:17 Tidying up splice junctions and intron retentions (part 2)... ...grouping splice junctions ...grouping introns ...loading splice events ...compiling rowEvents done May 20 04:17:27 Generating NxtSE assays May 20 04:17:29 Using MulticoreParam 1 threads | | | 0% | |============ | 17% | |======================= | 33% | |=================================== | 50% | |=============================================== | 67% | |========================================================== | 83% | |======================================================================| 100% May 20 04:17:47 Building Final NxtSE Object May 20 04:17:47 ...consolidating assays to H5 file May 20 04:17:49 ...packaging reference May 20 04:17:49 ...synthesising NxtSE May 20 04:17:49 ...determining how overlapping introns should be removed May 20 04:17:53 SpliceWiz (NxtSE) Collation Finished May 20 04:17:53 Loading NxtSE object from file... May 20 04:17:53 ...loading reference (NxtSE) May 20 04:17:53 ...linking assays May 20 04:17:53 ...linking COV files May 20 04:17:53 ...loading rowData May 20 04:17:53 ...removing overlapping introns... May 20 04:17:53 NxtSE loaded May 20 04:17:53 SpliceWiz reference already exists in given directory May 20 04:17:53 Running SpliceWiz processBAM May 20 04:17:55 Using MulticoreParam 1 threads Allocating memory to 1 threads for SpliceWiz (ompBAM)...initialized (0 milliseconds) /private/tmp/RtmpJPFxax/02H003.bam processed (519 milliseconds) May 20 04:17:55 SpliceWiz processBAM processed RtmpJPFxax/02H003.bam Allocating memory to 1 threads for SpliceWiz (ompBAM)...initialized (0 milliseconds) /private/tmp/RtmpJPFxax/02H025.bam processed (429 milliseconds) May 20 04:17:56 SpliceWiz processBAM processed RtmpJPFxax/02H025.bam Allocating memory to 1 threads for SpliceWiz (ompBAM)...initialized (0 milliseconds) /private/tmp/RtmpJPFxax/02H026.bam processed (638 milliseconds) May 20 04:17:56 SpliceWiz processBAM processed RtmpJPFxax/02H026.bam Allocating memory to 1 threads for SpliceWiz (ompBAM)...initialized (0 milliseconds) /private/tmp/RtmpJPFxax/02H033.bam processed (642 milliseconds) May 20 04:17:57 SpliceWiz processBAM processed RtmpJPFxax/02H033.bam Allocating memory to 1 threads for SpliceWiz (ompBAM)...initialized (0 milliseconds) /private/tmp/RtmpJPFxax/02H043.bam processed (406 milliseconds) May 20 04:17:57 SpliceWiz processBAM processed RtmpJPFxax/02H043.bam Allocating memory to 1 threads for SpliceWiz (ompBAM)...initialized (0 milliseconds) /private/tmp/RtmpJPFxax/02H046.bam processed (603 milliseconds) May 20 04:17:58 SpliceWiz processBAM processed RtmpJPFxax/02H046.bam May 20 04:17:59 Using MulticoreParam 1 threads May 20 04:17:59 Validating Experiment; checking COV files... May 20 04:17:59 Compiling Sample Stats May 20 04:17:59 Compiling Junction List...merging...done May 20 04:18:01 Compiling Junction Stats...merging...done May 20 04:18:10 Compiling Intron Retention List...done May 20 04:18:12 Tidying up splice junctions and intron retentions... ...annotating splice junctions ...copying splicing reference ...grouping splice junctions ...grouping introns ...loading splice events ...compiling rowEvents done May 20 04:18:25 Generating NxtSE assays May 20 04:18:26 Using MulticoreParam 1 threads | | | 0% | |============ | 17% | |======================= | 33% | |=================================== | 50% | |=============================================== | 67% | |========================================================== | 83% | |======================================================================| 100% May 20 04:18:45 Building Final NxtSE Object May 20 04:18:45 ...consolidating assays to H5 file May 20 04:18:47 ...packaging reference May 20 04:18:47 ...synthesising NxtSE May 20 04:18:47 ...determining how overlapping introns should be removed May 20 04:18:50 SpliceWiz (NxtSE) Collation Finished May 20 04:18:50 Loading NxtSE object from file... May 20 04:18:50 ...loading reference (NxtSE) May 20 04:18:50 ...linking assays May 20 04:18:50 ...linking COV files May 20 04:18:50 ...loading rowData May 20 04:18:50 ...removing overlapping introns... May 20 04:18:51 NxtSE loaded path paired strand depth mean_frag_size 02H003 ../SpliceWiz_Output/02H003.txt.gz TRUE -1 106256 149.3108 02H025 ../SpliceWiz_Output/02H025.txt.gz TRUE -1 84872 151.5914 02H026 ../SpliceWiz_Output/02H026.txt.gz TRUE -1 131514 150.3238 02H033 ../SpliceWiz_Output/02H033.txt.gz TRUE -1 129013 153.9754 02H043 ../SpliceWiz_Output/02H043.txt.gz TRUE -1 80254 155.4004 02H046 ../SpliceWiz_Output/02H046.txt.gz TRUE -1 120174 151.2840 directionality_strength Intergenic_Fraction rRNA_Fraction 02H003 9850 0 0 02H025 9848 0 0 02H026 9848 0 0 02H033 9855 0 0 02H043 9841 0 0 02H046 9857 0 0 NonPolyA_Fraction Mitochondrial_Fraction Unanno_Jn_Fraction 02H003 0 0 0.013449472 02H025 0 0 0.011203515 02H026 0 0 0.007282382 02H033 0 0 0.006310241 02H043 0 0 0.005871040 02H046 0 0 0.009819533 NMD_Jn_Fraction Fraction_Splice_Reads Fraction_Span_Reads IRBurden_clean 02H003 0.019509970 0.3506908 0.1735243 0.05796583 02H025 0.019360162 0.3712414 0.1591691 0.03963531 02H026 0.004298323 0.3980261 0.1615037 0.02576549 02H033 0.007705562 0.4003550 0.1734089 0.03090263 02H043 0.028069104 0.3671219 0.1807511 0.03762138 02H046 0.010542303 0.3725598 0.1603508 0.05099352 IRBurden_exitrons IRBurden_clean_unstranded IRBurden_exitrons_unstranded 02H003 0.1291810 0.03844293 0.1296020 02H025 0.1192351 0.02730399 0.1194005 02H026 0.1231055 0.02010410 0.1231939 02H033 0.1378958 0.02300500 0.1380215 02H043 0.1392935 0.02286515 0.1397365 02H046 0.1132136 0.03359077 0.1133852 IRBurden_antisense 02H003 0.021393335 02H025 0.013191532 02H026 0.006007119 02H033 0.008453742 02H043 0.015837096 02H046 0.019043703 [ FAIL 0 | WARN 0 | SKIP 0 | PASS 45 ] > > # bump to trigger r cmd check > > proc.time() user system elapsed 414.674 233.460 655.913
SpliceWiz.Rcheck/SpliceWiz-Ex.timings
name | user | system | elapsed | |
ASE-GLM-edgeR | 2.524 | 0.106 | 2.642 | |
ASE-methods | 35.932 | 0.291 | 36.642 | |
ASEFilter-class | 0.046 | 0.003 | 0.049 | |
Build-Reference-methods | 63.828 | 1.331 | 68.069 | |
Coverage | 0.875 | 0.045 | 1.020 | |
Gene-ontology-methods | 2.008 | 0.067 | 2.212 | |
Graphics-User-Interface | 0.001 | 0.000 | 0.001 | |
Mappability-methods | 3.103 | 0.041 | 3.204 | |
NxtSE-class | 65.742 | 1.043 | 67.238 | |
Run_SpliceWiz_Filters | 9.215 | 0.040 | 9.291 | |
STAR-methods | 0.005 | 0.012 | 0.026 | |
View-Reference-methods | 0.301 | 0.022 | 0.324 | |
collateData | 3.160 | 0.065 | 3.237 | |
coord2GR | 0.028 | 0.003 | 0.031 | |
covDataObject-class | 1.623 | 0.030 | 1.665 | |
covPlotObject-class | 22.083 | 0.487 | 22.652 | |
covPlotly-class | 1.119 | 0.027 | 1.149 | |
example-SpliceWiz-data | 0.019 | 0.003 | 0.023 | |
findSamples | 0.006 | 0.004 | 0.010 | |
isCOV | 0.017 | 0.003 | 0.021 | |
makeSE | 2.232 | 0.100 | 2.340 | |
make_plot_data | 0.052 | 0.003 | 0.056 | |
plotCoverage | 14.004 | 0.146 | 14.219 | |
processBAM | 5.308 | 0.711 | 4.206 | |
setSWthreads | 0.004 | 0.013 | 0.022 | |
theme_white | 0.160 | 0.062 | 0.224 | |