Back to Mac ARM64 build report for BioC 3.20 |
|
This page was generated on 2024-05-20 11:32:17 -0400 (Mon, 20 May 2024).
Hostname | OS | Arch (*) | R version | Installed pkgs |
---|---|---|---|---|
kjohnson1 | macOS 13.6.6 Ventura | arm64 | 4.4.0 Patched (2024-04-24 r86482) -- "Puppy Cup" | 4381 |
Click on any hostname to see more info about the system (e.g. compilers) (*) as reported by 'uname -p', except on Windows and Mac OS X |
Package 1556/2233 | Hostname | OS / Arch | INSTALL | BUILD | CHECK | BUILD BIN | ||||||||
PROcess 1.81.0 (landing page) Xiaochun Li
| kjohnson1 | macOS 13.6.6 Ventura / arm64 | OK | OK | OK | OK | ||||||||
To the developers/maintainers of the PROcess package: - Use the following Renviron settings to reproduce errors and warnings. - If 'R CMD check' started to fail recently on the Linux builder(s) over a missing dependency, add the missing dependency to 'Suggests:' in your DESCRIPTION file. See Renviron.bioc for more information. |
Package: PROcess |
Version: 1.81.0 |
Command: /Library/Frameworks/R.framework/Resources/bin/R CMD INSTALL PROcess |
StartedAt: 2024-05-18 11:54:00 -0400 (Sat, 18 May 2024) |
EndedAt: 2024-05-18 11:54:06 -0400 (Sat, 18 May 2024) |
EllapsedTime: 6.0 seconds |
RetCode: 0 |
Status: OK |
############################################################################## ############################################################################## ### ### Running command: ### ### /Library/Frameworks/R.framework/Resources/bin/R CMD INSTALL PROcess ### ############################################################################## ############################################################################## * installing to library ‘/Library/Frameworks/R.framework/Versions/4.4-arm64/Resources/library’ * installing *source* package ‘PROcess’ ... ** using staged installation ** R ** inst ** byte-compile and prepare package for lazy loading ** help *** installing help indices ** building package indices ** installing vignettes ** testing if installed package can be loaded from temporary location ** testing if installed package can be loaded from final location ** testing if installed package keeps a record of temporary installation path * DONE (PROcess)