Back to Mac ARM64 build report for BioC 3.20 |
|
This page was generated on 2024-05-20 11:32:16 -0400 (Mon, 20 May 2024).
Hostname | OS | Arch (*) | R version | Installed pkgs |
---|---|---|---|---|
kjohnson1 | macOS 13.6.6 Ventura | arm64 | 4.4.0 Patched (2024-04-24 r86482) -- "Puppy Cup" | 4381 |
Click on any hostname to see more info about the system (e.g. compilers) (*) as reported by 'uname -p', except on Windows and Mac OS X |
Package 1442/2233 | Hostname | OS / Arch | INSTALL | BUILD | CHECK | BUILD BIN | ||||||||
OrganismDbi 1.47.0 (landing page) Bioconductor Package Maintainer
| kjohnson1 | macOS 13.6.6 Ventura / arm64 | OK | OK | ERROR | OK | ||||||||
To the developers/maintainers of the OrganismDbi package: - Use the following Renviron settings to reproduce errors and warnings. - If 'R CMD check' started to fail recently on the Linux builder(s) over a missing dependency, add the missing dependency to 'Suggests:' in your DESCRIPTION file. See Renviron.bioc for more information. |
Package: OrganismDbi |
Version: 1.47.0 |
Command: /Library/Frameworks/R.framework/Resources/bin/R CMD build --keep-empty-dirs --no-resave-data OrganismDbi |
StartedAt: 2024-05-18 23:08:33 -0400 (Sat, 18 May 2024) |
EndedAt: 2024-05-18 23:09:50 -0400 (Sat, 18 May 2024) |
EllapsedTime: 77.1 seconds |
RetCode: 0 |
Status: OK |
PackageFile: OrganismDbi_1.47.0.tar.gz |
PackageFileSize: 387.3 KiB |
############################################################################## ############################################################################## ### ### Running command: ### ### /Library/Frameworks/R.framework/Resources/bin/R CMD build --keep-empty-dirs --no-resave-data OrganismDbi ### ############################################################################## ############################################################################## * checking for file ‘OrganismDbi/DESCRIPTION’ ... OK * preparing ‘OrganismDbi’: * checking DESCRIPTION meta-information ... OK * installing the package to build vignettes * creating vignettes ... OK * checking for LF line-endings in source and make files and shell scripts * checking for empty or unneeded directories * building ‘OrganismDbi_1.47.0.tar.gz’