Back to Mac ARM64 build report for BioC 3.20 |
|
This page was generated on 2024-05-20 11:32:15 -0400 (Mon, 20 May 2024).
Hostname | OS | Arch (*) | R version | Installed pkgs |
---|---|---|---|---|
kjohnson1 | macOS 13.6.6 Ventura | arm64 | 4.4.0 Patched (2024-04-24 r86482) -- "Puppy Cup" | 4381 |
Click on any hostname to see more info about the system (e.g. compilers) (*) as reported by 'uname -p', except on Windows and Mac OS X |
Package 1292/2233 | Hostname | OS / Arch | INSTALL | BUILD | CHECK | BUILD BIN | ||||||||
MPFE 1.41.0 (landing page) Conrad Burden
| kjohnson1 | macOS 13.6.6 Ventura / arm64 | OK | OK | OK | OK | ||||||||
To the developers/maintainers of the MPFE package: - Use the following Renviron settings to reproduce errors and warnings. - If 'R CMD check' started to fail recently on the Linux builder(s) over a missing dependency, add the missing dependency to 'Suggests:' in your DESCRIPTION file. See Renviron.bioc for more information. |
Package: MPFE |
Version: 1.41.0 |
Command: rm -rf MPFE.buildbin-libdir && mkdir MPFE.buildbin-libdir && /Users/biocbuild/BBS/utils/build-universal.sh MPFE_1.41.0.tar.gz /Library/Frameworks/R.framework/Resources/bin/R MPFE.buildbin-libdir |
StartedAt: 2024-05-20 08:37:01 -0400 (Mon, 20 May 2024) |
EndedAt: 2024-05-20 08:37:05 -0400 (Mon, 20 May 2024) |
EllapsedTime: 3.4 seconds |
RetCode: 0 |
Status: OK |
PackageFile: MPFE_1.41.0.tgz |
PackageFileSize: 216.7 KiB |
############################################################################## ############################################################################## ### ### Running command: ### ### rm -rf MPFE.buildbin-libdir && mkdir MPFE.buildbin-libdir && /Users/biocbuild/BBS/utils/build-universal.sh MPFE_1.41.0.tar.gz /Library/Frameworks/R.framework/Resources/bin/R MPFE.buildbin-libdir ### ############################################################################## ############################################################################## >>>>>>> >>>>>>> INSTALLATION WITH 'R CMD INSTALL --preclean --no-multiarch --library=MPFE.buildbin-libdir MPFE_1.41.0.tar.gz' >>>>>>> * installing *source* package ‘MPFE’ ... ** using staged installation ** R ** data ** inst ** byte-compile and prepare package for lazy loading ** help *** installing help indices ** building package indices ** installing vignettes ** testing if installed package can be loaded from temporary location ** testing if installed package can be loaded from final location ** testing if installed package keeps a record of temporary installation path * DONE (MPFE)