Back to Mac ARM64 build report for BioC 3.20 |
|
This page was generated on 2024-05-20 11:32:12 -0400 (Mon, 20 May 2024).
Hostname | OS | Arch (*) | R version | Installed pkgs |
---|---|---|---|---|
kjohnson1 | macOS 13.6.6 Ventura | arm64 | 4.4.0 Patched (2024-04-24 r86482) -- "Puppy Cup" | 4381 |
Click on any hostname to see more info about the system (e.g. compilers) (*) as reported by 'uname -p', except on Windows and Mac OS X |
Package 893/2233 | Hostname | OS / Arch | INSTALL | BUILD | CHECK | BUILD BIN | ||||||||
GSEABenchmarkeR 1.25.0 (landing page) Ludwig Geistlinger
| kjohnson1 | macOS 13.6.6 Ventura / arm64 | OK | OK | OK | OK | ||||||||
To the developers/maintainers of the GSEABenchmarkeR package: - Use the following Renviron settings to reproduce errors and warnings. - If 'R CMD check' started to fail recently on the Linux builder(s) over a missing dependency, add the missing dependency to 'Suggests:' in your DESCRIPTION file. See Renviron.bioc for more information. |
Package: GSEABenchmarkeR |
Version: 1.25.0 |
Command: /Library/Frameworks/R.framework/Resources/bin/R CMD check --install=check:GSEABenchmarkeR.install-out.txt --library=/Library/Frameworks/R.framework/Resources/library --no-vignettes --timings GSEABenchmarkeR_1.25.0.tar.gz |
StartedAt: 2024-05-19 15:25:18 -0400 (Sun, 19 May 2024) |
EndedAt: 2024-05-19 15:30:39 -0400 (Sun, 19 May 2024) |
EllapsedTime: 320.9 seconds |
RetCode: 0 |
Status: OK |
CheckDir: GSEABenchmarkeR.Rcheck |
Warnings: 0 |
############################################################################## ############################################################################## ### ### Running command: ### ### /Library/Frameworks/R.framework/Resources/bin/R CMD check --install=check:GSEABenchmarkeR.install-out.txt --library=/Library/Frameworks/R.framework/Resources/library --no-vignettes --timings GSEABenchmarkeR_1.25.0.tar.gz ### ############################################################################## ############################################################################## * using log directory ‘/Users/biocbuild/bbs-3.20-bioc-mac-arm64/meat/GSEABenchmarkeR.Rcheck’ * using R version 4.4.0 Patched (2024-04-24 r86482) * using platform: aarch64-apple-darwin20 * R was compiled by Apple clang version 14.0.0 (clang-1400.0.29.202) GNU Fortran (GCC) 12.2.0 * running under: macOS Ventura 13.6.6 * using session charset: UTF-8 * using option ‘--no-vignettes’ * checking for file ‘GSEABenchmarkeR/DESCRIPTION’ ... OK * checking extension type ... Package * this is package ‘GSEABenchmarkeR’ version ‘1.25.0’ * package encoding: UTF-8 * checking package namespace information ... OK * checking package dependencies ... OK * checking if this is a source package ... OK * checking if there is a namespace ... OK * checking for hidden files and directories ... OK * checking for portable file names ... OK * checking for sufficient/correct file permissions ... OK * checking whether package ‘GSEABenchmarkeR’ can be installed ... OK * checking installed package size ... OK * checking package directory ... OK * checking ‘build’ directory ... OK * checking DESCRIPTION meta-information ... OK * checking top-level files ... OK * checking for left-over files ... OK * checking index information ... OK * checking package subdirectories ... OK * checking code files for non-ASCII characters ... OK * checking R files for syntax errors ... OK * checking whether the package can be loaded ... OK * checking whether the package can be loaded with stated dependencies ... OK * checking whether the package can be unloaded cleanly ... OK * checking whether the namespace can be loaded with stated dependencies ... OK * checking whether the namespace can be unloaded cleanly ... OK * checking dependencies in R code ... OK * checking S3 generic/method consistency ... OK * checking replacement functions ... OK * checking foreign function calls ... OK * checking R code for possible problems ... NOTE evalRelevance: no visible binding for global variable ‘REL.SCORE’ Undefined global functions or variables: REL.SCORE * checking Rd files ... OK * checking Rd metadata ... OK * checking Rd cross-references ... OK * checking for missing documentation entries ... OK * checking for code/documentation mismatches ... OK * checking Rd \usage sections ... OK * checking Rd contents ... OK * checking for unstated dependencies in examples ... OK * checking files in ‘vignettes’ ... OK * checking examples ... OK Examples with CPU (user + system) or elapsed time > 5s user system elapsed evalTypeIError 34.696 19.658 65.295 loadEData 29.868 2.541 35.274 runEA 12.676 7.640 19.200 evalRandomGS 13.256 3.205 15.635 * checking for unstated dependencies in vignettes ... OK * checking package vignettes ... OK * checking running R code from vignettes ... SKIPPED * checking re-building of vignette outputs ... SKIPPED * checking PDF version of manual ... OK * DONE Status: 1 NOTE See ‘/Users/biocbuild/bbs-3.20-bioc-mac-arm64/meat/GSEABenchmarkeR.Rcheck/00check.log’ for details.
GSEABenchmarkeR.Rcheck/00install.out
############################################################################## ############################################################################## ### ### Running command: ### ### /Library/Frameworks/R.framework/Resources/bin/R CMD INSTALL GSEABenchmarkeR ### ############################################################################## ############################################################################## * installing to library ‘/Library/Frameworks/R.framework/Versions/4.4-arm64/Resources/library’ * installing *source* package ‘GSEABenchmarkeR’ ... ** using staged installation ** R ** inst ** byte-compile and prepare package for lazy loading ** help *** installing help indices ** building package indices ** installing vignettes ** testing if installed package can be loaded from temporary location ** testing if installed package can be loaded from final location ** testing if installed package keeps a record of temporary installation path * DONE (GSEABenchmarkeR)
GSEABenchmarkeR.Rcheck/GSEABenchmarkeR-Ex.timings
name | user | system | elapsed | |
bpPlot | 0.051 | 0.005 | 0.056 | |
cacheResource | 2.760 | 0.158 | 2.937 | |
evalNrSigSets | 3.144 | 0.060 | 3.219 | |
evalRandomGS | 13.256 | 3.205 | 15.635 | |
evalRelevance | 0.395 | 0.105 | 0.502 | |
evalTypeIError | 34.696 | 19.658 | 65.295 | |
loadEData | 29.868 | 2.541 | 35.274 | |
maPreproc | 2.292 | 0.380 | 2.736 | |
readDataId2diseaseCodeMap | 0.004 | 0.019 | 0.023 | |
readResults | 0.172 | 0.072 | 0.244 | |
runDE | 3.376 | 1.597 | 4.779 | |
runEA | 12.676 | 7.640 | 19.200 | |