Back to Multiple platform build/check report for BioC 3.19: simplified long |
|
This page was generated on 2024-06-25 17:41 -0400 (Tue, 25 Jun 2024).
Hostname | OS | Arch (*) | R version | Installed pkgs |
---|---|---|---|---|
nebbiolo1 | Linux (Ubuntu 22.04.3 LTS) | x86_64 | 4.4.0 (2024-04-24) -- "Puppy Cup" | 4760 |
palomino3 | Windows Server 2022 Datacenter | x64 | 4.4.0 (2024-04-24 ucrt) -- "Puppy Cup" | 4494 |
merida1 | macOS 12.7.4 Monterey | x86_64 | 4.4.0 (2024-04-24) -- "Puppy Cup" | 4508 |
kjohnson1 | macOS 13.6.6 Ventura | arm64 | 4.4.0 (2024-04-24) -- "Puppy Cup" | 4466 |
Click on any hostname to see more info about the system (e.g. compilers) (*) as reported by 'uname -p', except on Windows and Mac OS X |
Package 2032/2300 | Hostname | OS / Arch | INSTALL | BUILD | CHECK | BUILD BIN | ||||||||
spatialDE 1.10.0 (landing page) Gabriele Sales
| nebbiolo1 | Linux (Ubuntu 22.04.3 LTS) / x86_64 | OK | OK | OK | |||||||||
palomino3 | Windows Server 2022 Datacenter / x64 | OK | OK | OK | OK | |||||||||
merida1 | macOS 12.7.4 Monterey / x86_64 | OK | OK | OK | OK | |||||||||
kjohnson1 | macOS 13.6.6 Ventura / arm64 | OK | OK | OK | OK | |||||||||
To the developers/maintainers of the spatialDE package: - Allow up to 24 hours (and sometimes 48 hours) for your latest push to git@git.bioconductor.org:packages/spatialDE.git to reflect on this report. See Troubleshooting Build Report for more information. - Use the following Renviron settings to reproduce errors and warnings. - If 'R CMD check' started to fail recently on the Linux builder(s) over a missing dependency, add the missing dependency to 'Suggests:' in your DESCRIPTION file. See Renviron.bioc for more information. |
Package: spatialDE |
Version: 1.10.0 |
Command: F:\biocbuild\bbs-3.19-bioc\R\bin\R.exe CMD check --no-multiarch --install=check:spatialDE.install-out.txt --library=F:\biocbuild\bbs-3.19-bioc\R\library --no-vignettes --timings spatialDE_1.10.0.tar.gz |
StartedAt: 2024-06-24 12:10:43 -0400 (Mon, 24 Jun 2024) |
EndedAt: 2024-06-24 12:22:16 -0400 (Mon, 24 Jun 2024) |
EllapsedTime: 692.7 seconds |
RetCode: 0 |
Status: OK |
CheckDir: spatialDE.Rcheck |
Warnings: 0 |
############################################################################## ############################################################################## ### ### Running command: ### ### F:\biocbuild\bbs-3.19-bioc\R\bin\R.exe CMD check --no-multiarch --install=check:spatialDE.install-out.txt --library=F:\biocbuild\bbs-3.19-bioc\R\library --no-vignettes --timings spatialDE_1.10.0.tar.gz ### ############################################################################## ############################################################################## * using log directory 'F:/biocbuild/bbs-3.19-bioc/meat/spatialDE.Rcheck' * using R version 4.4.0 (2024-04-24 ucrt) * using platform: x86_64-w64-mingw32 * R was compiled by gcc.exe (GCC) 13.2.0 GNU Fortran (GCC) 13.2.0 * running under: Windows Server 2022 x64 (build 20348) * using session charset: UTF-8 * using option '--no-vignettes' * checking for file 'spatialDE/DESCRIPTION' ... OK * this is package 'spatialDE' version '1.10.0' * package encoding: UTF-8 * checking package namespace information ... OK * checking package dependencies ... OK * checking if this is a source package ... OK * checking if there is a namespace ... OK * checking for hidden files and directories ... OK * checking for portable file names ... OK * checking whether package 'spatialDE' can be installed ... NOTE Found the following notes/warnings: Non-staged installation was used See 'F:/biocbuild/bbs-3.19-bioc/meat/spatialDE.Rcheck/00install.out' for details. * checking installed package size ... OK * checking package directory ... OK * checking 'build' directory ... OK * checking DESCRIPTION meta-information ... OK * checking top-level files ... OK * checking for left-over files ... OK * checking index information ... OK * checking package subdirectories ... OK * checking code files for non-ASCII characters ... OK * checking R files for syntax errors ... OK * checking whether the package can be loaded ... OK * checking whether the package can be loaded with stated dependencies ... OK * checking whether the package can be unloaded cleanly ... OK * checking whether the namespace can be loaded with stated dependencies ... OK * checking whether the namespace can be unloaded cleanly ... OK * checking dependencies in R code ... OK * checking S3 generic/method consistency ... OK * checking replacement functions ... OK * checking foreign function calls ... OK * checking R code for possible problems ... OK * checking Rd files ... OK * checking Rd metadata ... OK * checking Rd cross-references ... OK * checking for missing documentation entries ... OK * checking for code/documentation mismatches ... OK * checking Rd \usage sections ... OK * checking Rd contents ... OK * checking for unstated dependencies in examples ... OK * checking contents of 'data' directory ... OK * checking data for non-ASCII characters ... OK * checking data for ASCII and uncompressed saves ... OK * checking line endings in shell scripts ... OK * checking files in 'vignettes' ... OK * checking examples ... OK Examples with CPU (user + system) or elapsed time > 5s user system elapsed spatial_patterns 11.44 0.36 5.91 FSV_sig 4.67 2.61 45.59 * checking for unstated dependencies in 'tests' ... OK * checking tests ... Running 'testthat.R' OK * checking for unstated dependencies in vignettes ... OK * checking package vignettes ... OK * checking running R code from vignettes ... SKIPPED * checking re-building of vignette outputs ... SKIPPED * checking PDF version of manual ... OK * DONE Status: 1 NOTE See 'F:/biocbuild/bbs-3.19-bioc/meat/spatialDE.Rcheck/00check.log' for details.
spatialDE.Rcheck/00install.out
############################################################################## ############################################################################## ### ### Running command: ### ### F:\biocbuild\bbs-3.19-bioc\R\bin\R.exe CMD INSTALL spatialDE ### ############################################################################## ############################################################################## * installing to library 'F:/biocbuild/bbs-3.19-bioc/R/library' * installing *source* package 'spatialDE' ... ** using non-staged installation via StagedInstall field ** R ** data ** inst ** byte-compile and prepare package for lazy loading ** help *** installing help indices ** building package indices ** installing vignettes ** testing if installed package can be loaded * DONE (spatialDE)
spatialDE.Rcheck/tests/testthat.Rout
R version 4.4.0 (2024-04-24 ucrt) -- "Puppy Cup" Copyright (C) 2024 The R Foundation for Statistical Computing Platform: x86_64-w64-mingw32/x64 R is free software and comes with ABSOLUTELY NO WARRANTY. You are welcome to redistribute it under certain conditions. Type 'license()' or 'licence()' for distribution details. R is a collaborative project with many contributors. Type 'contributors()' for more information and 'citation()' on how to cite R or R packages in publications. Type 'demo()' for some demos, 'help()' for on-line help, or 'help.start()' for an HTML browser interface to help. Type 'q()' to quit R. > library(testthat) > library(spatialDE) > > test_check("spatialDE") Loading required package: SingleCellExperiment Loading required package: SummarizedExperiment Loading required package: MatrixGenerics Loading required package: matrixStats Attaching package: 'MatrixGenerics' The following objects are masked from 'package:matrixStats': colAlls, colAnyNAs, colAnys, colAvgsPerRowSet, colCollapse, colCounts, colCummaxs, colCummins, colCumprods, colCumsums, colDiffs, colIQRDiffs, colIQRs, colLogSumExps, colMadDiffs, colMads, colMaxs, colMeans2, colMedians, colMins, colOrderStats, colProds, colQuantiles, colRanges, colRanks, colSdDiffs, colSds, colSums2, colTabulates, colVarDiffs, colVars, colWeightedMads, colWeightedMeans, colWeightedMedians, colWeightedSds, colWeightedVars, rowAlls, rowAnyNAs, rowAnys, rowAvgsPerColSet, rowCollapse, rowCounts, rowCummaxs, rowCummins, rowCumprods, rowCumsums, rowDiffs, rowIQRDiffs, rowIQRs, rowLogSumExps, rowMadDiffs, rowMads, rowMaxs, rowMeans2, rowMedians, rowMins, rowOrderStats, rowProds, rowQuantiles, rowRanges, rowRanks, rowSdDiffs, rowSds, rowSums2, rowTabulates, rowVarDiffs, rowVars, rowWeightedMads, rowWeightedMeans, rowWeightedMedians, rowWeightedSds, rowWeightedVars Loading required package: GenomicRanges Loading required package: stats4 Loading required package: BiocGenerics Attaching package: 'BiocGenerics' The following objects are masked from 'package:stats': IQR, mad, sd, var, xtabs The following objects are masked from 'package:base': Filter, Find, Map, Position, Reduce, anyDuplicated, aperm, append, as.data.frame, basename, cbind, colnames, dirname, do.call, duplicated, eval, evalq, get, grep, grepl, intersect, is.unsorted, lapply, mapply, match, mget, order, paste, pmax, pmax.int, pmin, pmin.int, rank, rbind, rownames, sapply, setdiff, table, tapply, union, unique, unsplit, which.max, which.min Loading required package: S4Vectors Attaching package: 'S4Vectors' The following object is masked from 'package:utils': findMatches The following objects are masked from 'package:base': I, expand.grid, unname Loading required package: IRanges Attaching package: 'IRanges' The following object is masked from 'package:grDevices': windows Loading required package: GenomeInfoDb Loading required package: Biobase Welcome to Bioconductor Vignettes contain introductory material; view with 'browseVignettes()'. To cite Bioconductor, see 'citation("Biobase")', and for packages 'citation("pkgname")'. Attaching package: 'Biobase' The following object is masked from 'package:MatrixGenerics': rowMedians The following objects are masked from 'package:matrixStats': anyMissing, rowMedians Models: 0%| | 0/10 [00:00<?, ?it/s] 0%| | 0/100 [00:00<?, ?it/s][A 44%|████▍ | 44/100 [00:00<00:00, 402.27it/s][A 94%|█████████▍| 94/100 [00:00<00:00, 433.47it/s][A [A Models: 10%|█ | 1/10 [00:00<00:02, 4.26it/s] 0%| | 0/100 [00:00<?, ?it/s][A 22%|██▏ | 22/100 [00:00<00:00, 201.14it/s][A 49%|████▉ | 49/100 [00:00<00:00, 227.48it/s][A 73%|███████▎ | 73/100 [00:00<00:00, 223.77it/s][A [A Models: 20%|██ | 2/10 [00:00<00:02, 2.82it/s] 0%| | 0/100 [00:00<?, ?it/s][A 25%|██▌ | 25/100 [00:00<00:00, 227.51it/s][A 48%|████▊ | 48/100 [00:00<00:00, 217.39it/s][A 70%|███████ | 70/100 [00:00<00:00, 209.58it/s][A 91%|█████████ | 91/100 [00:00<00:00, 202.65it/s][A [A Models: 30%|███ | 3/10 [00:01<00:02, 2.41it/s] 0%| | 0/100 [00:00<?, ?it/s][A 20%|██ | 20/100 [00:00<00:00, 182.08it/s][A 44%|████▍ | 44/100 [00:00<00:00, 204.01it/s][A 78%|███████▊ | 78/100 [00:00<00:00, 252.25it/s][A [A Models: 40%|████ | 4/10 [00:01<00:02, 2.36it/s] 0%| | 0/100 [00:00<?, ?it/s][A 18%|█▊ | 18/100 [00:00<00:00, 168.49it/s][A 45%|████▌ | 45/100 [00:00<00:00, 211.53it/s][A 72%|███████▏ | 72/100 [00:00<00:00, 227.59it/s][A 95%|█████████▌| 95/100 [00:00<00:00, 220.40it/s][A [A Models: 50%|█████ | 5/10 [00:02<00:02, 2.30it/s] 0%| | 0/100 [00:00<?, ?it/s][A 31%|███ | 31/100 [00:00<00:00, 283.43it/s][A 63%|██████▎ | 63/100 [00:00<00:00, 288.08it/s][A 99%|█████████▉| 99/100 [00:00<00:00, 306.80it/s][A [A Models: 60%|██████ | 6/10 [00:02<00:01, 2.51it/s] 0%| | 0/100 [00:00<?, ?it/s][A 30%|███ | 30/100 [00:00<00:00, 273.12it/s][A 58%|█████▊ | 58/100 [00:00<00:00, 263.06it/s][A 85%|████████▌ | 85/100 [00:00<00:00, 260.06it/s][A [A Models: 70%|███████ | 7/10 [00:02<00:01, 2.52it/s] 0%| | 0/100 [00:00<?, ?it/s][A 22%|██▏ | 22/100 [00:00<00:00, 201.14it/s][A 46%|████▌ | 46/100 [00:00<00:00, 211.36it/s][A 68%|██████▊ | 68/100 [00:00<00:00, 182.88it/s][A 98%|█████████▊| 98/100 [00:00<00:00, 215.96it/s][A [A Models: 80%|████████ | 8/10 [00:03<00:00, 2.35it/s] 0%| | 0/100 [00:00<?, ?it/s][A 38%|███▊ | 38/100 [00:00<00:00, 347.41it/s][A 73%|███████▎ | 73/100 [00:00<00:00, 283.03it/s][A [A Models: 90%|█████████ | 9/10 [00:03<00:00, 2.50it/s] 0%| | 0/100 [00:00<?, ?it/s][A 36%|███▌ | 36/100 [00:00<00:00, 346.70it/s][A 71%|███████ | 71/100 [00:00<00:00, 295.47it/s][A [A Models: 100%|██████████| 10/10 [00:03<00:00, 2.52it/s] Models: 100%|██████████| 10/10 [00:03<00:00, 2.50it/s] Models: 0%| | 0/10 [00:00<?, ?it/s] 0%| | 0/100 [00:00<?, ?it/s][A 48%|████▊ | 48/100 [00:00<00:00, 439.04it/s][A 98%|█████████▊| 98/100 [00:00<00:00, 447.46it/s][A [A Models: 10%|█ | 1/10 [00:00<00:01, 4.55it/s] 0%| | 0/100 [00:00<?, ?it/s][A 26%|██▌ | 26/100 [00:00<00:00, 232.39it/s][A 50%|█████ | 50/100 [00:00<00:00, 208.65it/s][A 71%|███████ | 71/100 [00:00<00:00, 201.02it/s][A 92%|█████████▏| 92/100 [00:00<00:00, 197.24it/s][A [A Models: 20%|██ | 2/10 [00:00<00:03, 2.65it/s] 0%| | 0/100 [00:00<?, ?it/s][A 33%|███▎ | 33/100 [00:00<00:00, 300.39it/s][A 64%|██████▍ | 64/100 [00:00<00:00, 258.39it/s][A 91%|█████████ | 91/100 [00:00<00:00, 259.13it/s][A [A Models: 30%|███ | 3/10 [00:01<00:02, 2.70it/s] 0%| | 0/100 [00:00<?, ?it/s][A 29%|██▉ | 29/100 [00:00<00:00, 263.95it/s][A 58%|█████▊ | 58/100 [00:00<00:00, 263.27it/s][A 89%|████████▉ | 89/100 [00:00<00:00, 271.91it/s][A [A Models: 40%|████ | 4/10 [00:01<00:02, 2.68it/s] 0%| | 0/100 [00:00<?, ?it/s][A 26%|██▌ | 26/100 [00:00<00:00, 236.63it/s][A 58%|█████▊ | 58/100 [00:00<00:00, 267.30it/s][A 88%|████████▊ | 88/100 [00:00<00:00, 281.20it/s][A [A Models: 50%|█████ | 5/10 [00:01<00:01, 2.71it/s] 0%| | 0/100 [00:00<?, ?it/s][A 31%|███ | 31/100 [00:00<00:00, 282.23it/s][A 60%|██████ | 60/100 [00:00<00:00, 223.39it/s][A 83%|████████▎ | 83/100 [00:00<00:00, 224.44it/s][A [A Models: 60%|██████ | 6/10 [00:02<00:01, 2.54it/s] 0%| | 0/100 [00:00<?, ?it/s][A 31%|███ | 31/100 [00:00<00:00, 282.19it/s][A 61%|██████ | 61/100 [00:00<00:00, 275.32it/s][A 91%|█████████ | 91/100 [00:00<00:00, 274.92it/s][A [A Models: 70%|███████ | 7/10 [00:02<00:01, 2.58it/s] 0%| | 0/100 [00:00<?, ?it/s][A 25%|██▌ | 25/100 [00:00<00:00, 227.60it/s][A 48%|████▊ | 48/100 [00:00<00:00, 200.60it/s][A 69%|██████▉ | 69/100 [00:00<00:00, 196.48it/s][A 89%|████████▉ | 89/100 [00:00<00:00, 191.26it/s][A [A Models: 80%|████████ | 8/10 [00:03<00:00, 2.33it/s] 0%| | 0/100 [00:00<?, ?it/s][A 26%|██▌ | 26/100 [00:00<00:00, 236.71it/s][A 50%|█████ | 50/100 [00:00<00:00, 209.03it/s][A 72%|███████▏ | 72/100 [00:00<00:00, 205.21it/s][A 96%|█████████▌| 96/100 [00:00<00:00, 210.31it/s][A [A Models: 90%|█████████ | 9/10 [00:03<00:00, 2.26it/s] 0%| | 0/100 [00:00<?, ?it/s][A 22%|██▏ | 22/100 [00:00<00:00, 200.30it/s][A 45%|████▌ | 45/100 [00:00<00:00, 206.16it/s][A 75%|███████▌ | 75/100 [00:00<00:00, 237.24it/s][A [A Models: 100%|██████████| 10/10 [00:04<00:00, 2.29it/s] Models: 100%|██████████| 10/10 [00:04<00:00, 2.48it/s] C:\Users\BIOCBU~1\AppData\Local\R\cache\R\basilisk\116~1.0\SPATIA~1\110~1.0\env\lib\site-packages\pandas\core\internals\blocks.py:351: RuntimeWarning: invalid value encountered in log result = func(self.values, **kwargs) Models: 0%| | 0/10 [00:00<?, ?it/s] 0%| | 0/100 [00:00<?, ?it/s][A 49%|████▉ | 49/100 [00:00<00:00, 447.99it/s][A [A Models: 10%|█ | 1/10 [00:00<00:01, 4.92it/s] 0%| | 0/100 [00:00<?, ?it/s][A 42%|████▏ | 42/100 [00:00<00:00, 382.27it/s][A 81%|████████ | 81/100 [00:00<00:00, 370.36it/s][A [A Models: 20%|██ | 2/10 [00:00<00:01, 4.14it/s] 0%| | 0/100 [00:00<?, ?it/s][A 36%|███▌ | 36/100 [00:00<00:00, 257.93it/s][A 68%|██████▊ | 68/100 [00:00<00:00, 274.18it/s][A 96%|█████████▌| 96/100 [00:00<00:00, 252.02it/s][A [A Models: 30%|███ | 3/10 [00:00<00:02, 3.16it/s] 0%| | 0/100 [00:00<?, ?it/s][A 24%|██▍ | 24/100 [00:00<00:00, 218.56it/s][A 57%|█████▋ | 57/100 [00:00<00:00, 267.34it/s][A 92%|█████████▏| 92/100 [00:00<00:00, 291.36it/s][A [A Models: 40%|████ | 4/10 [00:01<00:01, 3.05it/s] 0%| | 0/100 [00:00<?, ?it/s][A 30%|███ | 30/100 [00:00<00:00, 276.99it/s][A 59%|█████▉ | 59/100 [00:00<00:00, 269.31it/s][A 86%|████████▌ | 86/100 [00:00<00:00, 228.73it/s][A [A Models: 50%|█████ | 5/10 [00:01<00:01, 2.81it/s] 0%| | 0/100 [00:00<?, ?it/s][A 23%|██▎ | 23/100 [00:00<00:00, 209.45it/s][A 48%|████▊ | 48/100 [00:00<00:00, 220.64it/s][A 71%|███████ | 71/100 [00:00<00:00, 215.91it/s][A 96%|█████████▌| 96/100 [00:00<00:00, 220.54it/s][A [A Models: 60%|██████ | 6/10 [00:02<00:01, 2.57it/s] 0%| | 0/100 [00:00<?, ?it/s][A 36%|███▌ | 36/100 [00:00<00:00, 329.14it/s][A 70%|███████ | 70/100 [00:00<00:00, 317.57it/s][A [A Models: 70%|███████ | 7/10 [00:02<00:01, 2.74it/s] 0%| | 0/100 [00:00<?, ?it/s][A 34%|███▍ | 34/100 [00:00<00:00, 308.25it/s][A 66%|██████▌ | 66/100 [00:00<00:00, 299.04it/s][A [A Models: 80%|████████ | 8/10 [00:02<00:00, 2.87it/s] 0%| | 0/100 [00:00<?, ?it/s][A 35%|███▌ | 35/100 [00:00<00:00, 318.60it/s][A 71%|███████ | 71/100 [00:00<00:00, 324.80it/s][A [A Models: 90%|█████████ | 9/10 [00:03<00:00, 3.01it/s] 0%| | 0/100 [00:00<?, ?it/s][A 38%|███▊ | 38/100 [00:00<00:00, 347.43it/s][A 78%|███████▊ | 78/100 [00:00<00:00, 357.16it/s][A [A Models: 100%|██████████| 10/10 [00:03<00:00, 3.16it/s] Models: 100%|██████████| 10/10 [00:03<00:00, 3.04it/s] Models: 0%| | 0/10 [00:00<?, ?it/s] 0%| | 0/100 [00:00<?, ?it/s][A 21%|██ | 21/100 [00:00<00:00, 192.00it/s][A 50%|█████ | 50/100 [00:00<00:00, 235.02it/s][A 85%|████████▌ | 85/100 [00:00<00:00, 273.30it/s][A [A Models: 10%|█ | 1/10 [00:00<00:03, 2.66it/s] 0%| | 0/100 [00:00<?, ?it/s][A 27%|██▋ | 27/100 [00:00<00:00, 245.65it/s][A 52%|█████▏ | 52/100 [00:00<00:00, 235.69it/s][A 76%|███████▌ | 76/100 [00:00<00:00, 228.27it/s][A [A Models: 20%|██ | 2/10 [00:00<00:03, 2.60it/s] 0%| | 0/100 [00:00<?, ?it/s][A 30%|███ | 30/100 [00:00<00:00, 274.30it/s][A 58%|█████▊ | 58/100 [00:00<00:00, 262.99it/s][A 85%|████████▌ | 85/100 [00:00<00:00, 255.59it/s][A [A Models: 30%|███ | 3/10 [00:01<00:02, 2.58it/s] 0%| | 0/100 [00:00<?, ?it/s][A 25%|██▌ | 25/100 [00:00<00:00, 227.58it/s][A 48%|████▊ | 48/100 [00:00<00:00, 217.42it/s][A 78%|███████▊ | 78/100 [00:00<00:00, 242.92it/s][A [A Models: 40%|████ | 4/10 [00:01<00:02, 2.53it/s] 0%| | 0/100 [00:00<?, ?it/s][A 35%|███▌ | 35/100 [00:00<00:00, 320.00it/s][A 69%|██████▉ | 69/100 [00:00<00:00, 313.78it/s][A [A Models: 50%|█████ | 5/10 [00:01<00:01, 2.69it/s] 0%| | 0/100 [00:00<?, ?it/s][A 30%|███ | 30/100 [00:00<00:00, 273.21it/s][A 58%|█████▊ | 58/100 [00:00<00:00, 263.09it/s][A 85%|████████▌ | 85/100 [00:00<00:00, 239.56it/s][A [A Models: 60%|██████ | 6/10 [00:02<00:01, 2.64it/s] 0%| | 0/100 [00:00<?, ?it/s][A 35%|███▌ | 35/100 [00:00<00:00, 320.00it/s][A 70%|███████ | 70/100 [00:00<00:00, 319.25it/s][A [A Models: 70%|███████ | 7/10 [00:02<00:01, 2.80it/s] 0%| | 0/100 [00:00<?, ?it/s][A 37%|███▋ | 37/100 [00:00<00:00, 338.28it/s][A 72%|███████▏ | 72/100 [00:00<00:00, 326.70it/s][A [A Models: 80%|████████ | 8/10 [00:02<00:00, 2.96it/s] 0%| | 0/100 [00:00<?, ?it/s][A 36%|███▌ | 36/100 [00:00<00:00, 327.96it/s][A 69%|██████▉ | 69/100 [00:00<00:00, 312.54it/s][A [A Models: 90%|█████████ | 9/10 [00:03<00:00, 2.99it/s] 0%| | 0/100 [00:00<?, ?it/s][A 38%|███▊ | 38/100 [00:00<00:00, 345.92it/s][A 76%|███████▌ | 76/100 [00:00<00:00, 346.79it/s][A [A Models: 100%|██████████| 10/10 [00:03<00:00, 3.14it/s] Models: 100%|██████████| 10/10 [00:03<00:00, 2.85it/s] Models: 0%| | 0/10 [00:00<?, ?it/s] 0%| | 0/100 [00:00<?, ?it/s][A 43%|████▎ | 43/100 [00:00<00:00, 391.49it/s][A 98%|█████████▊| 98/100 [00:00<00:00, 456.88it/s][A [A Models: 10%|█ | 1/10 [00:00<00:01, 4.56it/s] 0%| | 0/100 [00:00<?, ?it/s][A 41%|████ | 41/100 [00:00<00:00, 373.46it/s][A 79%|███████▉ | 79/100 [00:00<00:00, 358.09it/s][A [A Models: 20%|██ | 2/10 [00:00<00:02, 3.91it/s] 0%| | 0/100 [00:00<?, ?it/s][A 35%|███▌ | 35/100 [00:00<00:00, 318.60it/s][A 68%|██████▊ | 68/100 [00:00<00:00, 308.69it/s][A 99%|█████████▉| 99/100 [00:00<00:00, 296.50it/s][A [A Models: 30%|███ | 3/10 [00:00<00:02, 3.46it/s] 0%| | 0/100 [00:00<?, ?it/s][A 23%|██▎ | 23/100 [00:00<00:00, 210.38it/s][A 49%|████▉ | 49/100 [00:00<00:00, 226.47it/s][A 82%|████████▏ | 82/100 [00:00<00:00, 260.33it/s][A [A Models: 40%|████ | 4/10 [00:01<00:01, 3.09it/s] 0%| | 0/100 [00:00<?, ?it/s][A 29%|██▉ | 29/100 [00:00<00:00, 264.02it/s][A 61%|██████ | 61/100 [00:00<00:00, 280.88it/s][A 91%|█████████ | 91/100 [00:00<00:00, 277.87it/s][A [A Models: 50%|█████ | 5/10 [00:01<00:01, 2.92it/s] 0%| | 0/100 [00:00<?, ?it/s][A 24%|██▍ | 24/100 [00:00<00:00, 219.57it/s][A 53%|█████▎ | 53/100 [00:00<00:00, 246.38it/s][A 86%|████████▌ | 86/100 [00:00<00:00, 271.12it/s][A [A Models: 60%|██████ | 6/10 [00:01<00:01, 2.83it/s] 0%| | 0/100 [00:00<?, ?it/s][A 39%|███▉ | 39/100 [00:00<00:00, 356.58it/s][A 75%|███████▌ | 75/100 [00:00<00:00, 339.57it/s][A [A Models: 70%|███████ | 7/10 [00:02<00:01, 2.98it/s] 0%| | 0/100 [00:00<?, ?it/s][A 37%|███▋ | 37/100 [00:00<00:00, 336.89it/s][A 71%|███████ | 71/100 [00:00<00:00, 321.59it/s][A [A Models: 80%|████████ | 8/10 [00:02<00:00, 3.05it/s] 0%| | 0/100 [00:00<?, ?it/s][A 33%|███▎ | 33/100 [00:00<00:00, 300.41it/s][A 64%|██████▍ | 64/100 [00:00<00:00, 248.71it/s][A 100%|██████████| 100/100 [00:00<00:00, 281.82it/s][A [A Models: 90%|█████████ | 9/10 [00:02<00:00, 2.96it/s] 0%| | 0/100 [00:00<?, ?it/s][A 40%|████ | 40/100 [00:00<00:00, 365.71it/s][A 80%|████████ | 80/100 [00:00<00:00, 364.74it/s][A [A Models: 100%|██████████| 10/10 [00:03<00:00, 3.17it/s] Models: 100%|██████████| 10/10 [00:03<00:00, 3.13it/s] [ FAIL 0 | WARN 0 | SKIP 0 | PASS 29 ] > > proc.time() user system elapsed 52.12 20.01 93.67
spatialDE.Rcheck/spatialDE-Ex.timings
name | user | system | elapsed | |
FSV_sig | 4.67 | 2.61 | 45.59 | |
mockSVG | 0.30 | 0.03 | 0.33 | |
modelSearch | 2.39 | 0.18 | 1.42 | |
model_search | 1.79 | 0.04 | 0.92 | |
multiGenePlots | 2.35 | 0.25 | 1.71 | |
regress_out | 0.22 | 0.03 | 0.18 | |
run | 1.20 | 0.11 | 0.66 | |
spatialDE | 1.40 | 0.08 | 0.83 | |
spatialPatterns | 1.47 | 0.11 | 0.92 | |
spatial_patterns | 11.44 | 0.36 | 5.91 | |
stabilize | 0.19 | 0.03 | 0.10 | |