iFlow 2.11.1 Kyongryun Lee
Snapshot Date: 2013-03-23 17:02:20 -0700 (Sat, 23 Mar 2013) | URL: https://hedgehog.fhcrc.org/bioconductor/trunk/madman/Rpacks/iFlow | Last Changed Rev: 72508 / Revision: 74756 | Last Changed Date: 2013-01-14 11:47:36 -0800 (Mon, 14 Jan 2013) |
| george2 | Linux (Ubuntu 12.04.1 LTS) / x86_64 | OK | WARNINGS | |
moscato2 | Windows Server 2008 R2 Enterprise SP1 (64-bit) / x64 | N O T S U P P O R T E D |
petty | Mac OS X Leopard (10.5.8) / i386 | OK | WARNINGS | OK |
pelham | Mac OS X Snow Leopard (10.6.8) / x86_64 | OK | ERROR | [ OK ] |
* installing *source* package 'iFlow' ...
** R
** inst
** preparing package for lazy loading
Warning in rgl.init(initValue) : RGL: GLX extension missing on server
Warning in fun(libname, pkgname) : error in rgl_init
Warning: replacing previous import 'plot' when loading 'graphics'
Error in dyn.load(file, DLLpath = DLLpath, ...) :
unable to load shared object '/Library/Frameworks/R.framework/Versions/3.0/Resources/library/RGtk2/libs/RGtk2.so':
dlopen(/Library/Frameworks/R.framework/Versions/3.0/Resources/library/RGtk2/libs/RGtk2.so, 6): Symbol not found: _pixman_image_composite32
Referenced from: /Library/Frameworks/R.framework/Versions/3.0/Resources/library/RGtk2/libs/RGtk2.so
Expected in: flat namespace
in /Library/Frameworks/R.framework/Versions/3.0/Resources/library/RGtk2/libs/RGtk2.so
Warning: Failed to load RGtk2 dynamic library, attempting to install it.
Please install GTK+ from http://r.research.att.com/libs/GTK_2.18.5-X11.pkg
If the package still does not load, please ensure that GTK+ is installed and that it is on your PATH environment variable
IN ANY CASE, RESTART R BEFORE TRYING TO LOAD THE PACKAGE AGAIN
Error in dyn.load(file, DLLpath = DLLpath, ...) :
unable to load shared object '/Library/Frameworks/R.framework/Versions/3.0/Resources/library/cairoDevice/libs/cairoDevice.so':
dlopen(/Library/Frameworks/R.framework/Versions/3.0/Resources/library/cairoDevice/libs/cairoDevice.so, 6): Symbol not found: _pixman_image_composite32
Referenced from: /Library/Frameworks/R.framework/Versions/3.0/Resources/library/cairoDevice/libs/cairoDevice.so
Expected in: flat namespace
in /Library/Frameworks/R.framework/Versions/3.0/Resources/library/cairoDevice/libs/cairoDevice.so
Warning in fun(libname, pkgname) :
Failed to load cairoDevice, attempting to install itError in dyn.load(file, DLLpath = DLLpath, ...) :
unable to load shared object '/Library/Frameworks/R.framework/Versions/3.0/Resources/library/cairoDevice/libs/cairoDevice.so':
dlopen(/Library/Frameworks/R.framework/Versions/3.0/Resources/library/cairoDevice/libs/cairoDevice.so, 6): Symbol not found: _pixman_image_composite32
Referenced from: /Library/Frameworks/R.framework/Versions/3.0/Resources/library/cairoDevice/libs/cairoDevice.so
Expected in: flat namespace
in /Library/Frameworks/R.framework/Versions/3.0/Resources/library/cairoDevice/libs/cairoDevice.so
Please install GTK+ from http://r.research.att.com/libs/GTK_2.18.5-X11.pkg
If the package still does not load, please ensure that GTK+ is installed and that it is on your PATH environment variable
IN ANY CASE, RESTART R BEFORE TRYING TO LOAD THE PACKAGE AGAIN
** help
*** installing help indices
** building package indices
** installing vignettes
'iflow.Rnw'
** testing if installed package can be loaded
Warning in rgl.init(initValue) : RGL: GLX extension missing on server
Warning in fun(libname, pkgname) : error in rgl_init
Warning: replacing previous import 'plot' when loading 'graphics'
Error in dyn.load(file, DLLpath = DLLpath, ...) :
unable to load shared object '/Library/Frameworks/R.framework/Versions/3.0/Resources/library/RGtk2/libs/RGtk2.so':
dlopen(/Library/Frameworks/R.framework/Versions/3.0/Resources/library/RGtk2/libs/RGtk2.so, 6): Symbol not found: _pixman_image_composite32
Referenced from: /Library/Frameworks/R.framework/Versions/3.0/Resources/library/RGtk2/libs/RGtk2.so
Expected in: flat namespace
in /Library/Frameworks/R.framework/Versions/3.0/Resources/library/RGtk2/libs/RGtk2.so
Warning: Failed to load RGtk2 dynamic library, attempting to install it.
Please install GTK+ from http://r.research.att.com/libs/GTK_2.18.5-X11.pkg
If the package still does not load, please ensure that GTK+ is installed and that it is on your PATH environment variable
IN ANY CASE, RESTART R BEFORE TRYING TO LOAD THE PACKAGE AGAIN
Error in dyn.load(file, DLLpath = DLLpath, ...) :
unable to load shared object '/Library/Frameworks/R.framework/Versions/3.0/Resources/library/cairoDevice/libs/cairoDevice.so':
dlopen(/Library/Frameworks/R.framework/Versions/3.0/Resources/library/cairoDevice/libs/cairoDevice.so, 6): Symbol not found: _pixman_image_composite32
Referenced from: /Library/Frameworks/R.framework/Versions/3.0/Resources/library/cairoDevice/libs/cairoDevice.so
Expected in: flat namespace
in /Library/Frameworks/R.framework/Versions/3.0/Resources/library/cairoDevice/libs/cairoDevice.so
Warning in fun(libname, pkgname) :
Failed to load cairoDevice, attempting to install itError in dyn.load(file, DLLpath = DLLpath, ...) :
unable to load shared object '/Library/Frameworks/R.framework/Versions/3.0/Resources/library/cairoDevice/libs/cairoDevice.so':
dlopen(/Library/Frameworks/R.framework/Versions/3.0/Resources/library/cairoDevice/libs/cairoDevice.so, 6): Symbol not found: _pixman_image_composite32
Referenced from: /Library/Frameworks/R.framework/Versions/3.0/Resources/library/cairoDevice/libs/cairoDevice.so
Expected in: flat namespace
in /Library/Frameworks/R.framework/Versions/3.0/Resources/library/cairoDevice/libs/cairoDevice.so
Please install GTK+ from http://r.research.att.com/libs/GTK_2.18.5-X11.pkg
If the package still does not load, please ensure that GTK+ is installed and that it is on your PATH environment variable
IN ANY CASE, RESTART R BEFORE TRYING TO LOAD THE PACKAGE AGAIN
packaged installation of 'iFlow' as 'iFlow_2.11.1.tgz'
* DONE (iFlow)