MinimumDistance 1.3.7 Robert B Scharpf
Snapshot Date: 2013-03-24 17:01:43 -0700 (Sun, 24 Mar 2013) | URL: https://hedgehog.fhcrc.org/bioconductor/trunk/madman/Rpacks/MinimumDistance | Last Changed Rev: 74305 / Revision: 74774 | Last Changed Date: 2013-03-13 13:00:04 -0700 (Wed, 13 Mar 2013) |
| george2 | Linux (Ubuntu 12.04.1 LTS) / x86_64 | OK | OK | |
moscato2 | Windows Server 2008 R2 Enterprise SP1 (64-bit) / x64 | OK | OK | [ OK ] |
petty | Mac OS X Leopard (10.5.8) / i386 | OK | OK | OK |
install for i386
* installing *source* package 'MinimumDistance' ...
** R
** data
** inst
** preparing package for lazy loading
Creating a generic function for 'xyplot' from package 'lattice' in package 'MinimumDistance'
** help
*** installing help indices
** building package indices
** installing vignettes
'MinimumDistance.Rnw'
** testing if installed package can be loaded
install for x64
* installing *source* package 'MinimumDistance' ...
** testing if installed package can be loaded
* MD5 sums
packaged installation of 'MinimumDistance' as MinimumDistance_1.3.7.zip
* DONE (MinimumDistance)