Back to Multiple platform build/check report for BioC 3.9 |
|
This page was generated on 2019-03-18 11:45:25 -0400 (Mon, 18 Mar 2019).
Package 977/1676 | Hostname | OS / Arch | INSTALL | BUILD | CHECK | ||||||
MinimumDistance 1.27.0 Robert B Scharpf
| malbec2 | Linux (Ubuntu 18.04.2 LTS) / x86_64 | OK | OK | WARNINGS | ||||||
tokay2 | Windows Server 2012 R2 Standard / x64 | ERROR | ERROR | skipped | |||||||
merida2 | OS X 10.11.6 El Capitan / x86_64 | OK | OK | WARNINGS | |||||||
celaya2 | OS X 10.11.6 El Capitan / x86_64 | OK | OK | WARNINGS |
Package: MinimumDistance |
Version: 1.27.0 |
Command: rm -rf MinimumDistance.buildbin-libdir && mkdir MinimumDistance.buildbin-libdir && /Users/biocbuild/BBS/utils/build-universal.sh MinimumDistance_1.27.0.tar.gz /Library/Frameworks/R.framework/Versions/Current/Resources/bin/R MinimumDistance.buildbin-libdir |
StartedAt: 2019-03-18 06:57:50 -0400 (Mon, 18 Mar 2019) |
EndedAt: 2019-03-18 06:58:35 -0400 (Mon, 18 Mar 2019) |
EllapsedTime: 44.4 seconds |
RetCode: 0 |
Status: OK |
PackageFile: MinimumDistance_1.27.0.tgz |
PackageFileSize: 2.529 MiB |
############################################################################## ############################################################################## ### ### Running command: ### ### rm -rf MinimumDistance.buildbin-libdir && mkdir MinimumDistance.buildbin-libdir && /Users/biocbuild/BBS/utils/build-universal.sh MinimumDistance_1.27.0.tar.gz /Library/Frameworks/R.framework/Versions/Current/Resources/bin/R MinimumDistance.buildbin-libdir ### ############################################################################## ############################################################################## >>>>>>> >>>>>>> INSTALLATION WITH 'R CMD INSTALL --preclean --no-multiarch --library=MinimumDistance.buildbin-libdir MinimumDistance_1.27.0.tar.gz' >>>>>>> * installing *source* package ‘MinimumDistance’ ... ** R ** data ** inst ** byte-compile and prepare package for lazy loading Creating a new generic function for ‘allNames’ in package ‘MinimumDistance’ Creating a generic function for ‘colMads’ from package ‘matrixStats’ in package ‘MinimumDistance’ ** help *** installing help indices ** building package indices ** installing vignettes ** testing if installed package can be loaded * DONE (MinimumDistance)