-
Software packages (Mondays, Wednesdays, Fridays):
browse, download
-
Experimental data packages (Tuesdays, Thursdays, Saturdays):
browse, download
-
Workflows (Tuesdays, Fridays):
browse, download
-
Books (Mondays, Wednesdays, Fridays):
browse, download
-
Long Tests (Saturdays only):
browse, download
|