-
Software builds (report updated daily, except on Sundays):
browse, download
-
Annotation Data builds (report updated on Wednesdays):
browse, download
-
Experiment Data builds (report updated on Tuesdays, Thursdays, and Saturdays):
browse, download
-
Workflow builds (report updated on Tuesdays and Fridays):
browse, download
-
Book builds (report updated on Mondays, Wednesdays, and Fridays):
browse, download
-
Long Tests builds (report updated on Saturdays):
browse, download
|