Package: systemPipeRdata Version: 2.13.2 Command: /home/biocbuild/bbs-3.22-bioc/R/bin/R CMD INSTALL systemPipeRdata StartedAt: 2025-07-10 10:56:29 -0400 (Thu, 10 Jul 2025) EndedAt: 2025-07-10 10:56:38 -0400 (Thu, 10 Jul 2025) EllapsedTime: 8.8 seconds RetCode: 0 Status: OK