Package: spatialLIBD Version: 1.21.5 Command: /home/biocbuild/bbs-3.22-bioc/R/bin/R CMD INSTALL spatialLIBD StartedAt: 2025-07-03 11:02:10 -0400 (Thu, 03 Jul 2025) EndedAt: 2025-07-03 11:03:02 -0400 (Thu, 03 Jul 2025) EllapsedTime: 52.2 seconds RetCode: 0 Status: OK