Package: spatialDmelxsim Version: 1.15.0 Command: /home/biocbuild/bbs-3.22-bioc/R/bin/R CMD INSTALL spatialDmelxsim StartedAt: 2025-07-03 11:01:15 -0400 (Thu, 03 Jul 2025) EndedAt: 2025-07-03 11:01:43 -0400 (Thu, 03 Jul 2025) EllapsedTime: 28.2 seconds RetCode: 0 Status: OK