Package: spatialDmelxsim Version: 1.15.0 Command: /home/biocbuild/bbs-3.22-bioc/R/bin/R CMD build --keep-empty-dirs --no-resave-data spatialDmelxsim StartedAt: 2025-07-03 11:43:54 -0400 (Thu, 03 Jul 2025) EndedAt: 2025-07-03 11:44:40 -0400 (Thu, 03 Jul 2025) EllapsedTime: 45.7 seconds RetCode: 0 Status: OK PackageFile: spatialDmelxsim_1.15.0.tar.gz PackageFileSize: 890.7 KiB