Package: signatureSearchData Version: 1.23.0 Command: /home/biocbuild/bbs-3.22-bioc/R/bin/R CMD build --keep-empty-dirs --no-resave-data signatureSearchData StartedAt: 2025-07-10 11:42:57 -0400 (Thu, 10 Jul 2025) EndedAt: 2025-07-10 11:43:12 -0400 (Thu, 10 Jul 2025) EllapsedTime: 14.6 seconds RetCode: 0 Status: OK PackageFile: signatureSearchData_1.23.0.tar.gz PackageFileSize: 656.8 KiB