Package: scanMiRData Version: 1.15.0 Command: /home/biocbuild/bbs-3.22-bioc/R/bin/R CMD INSTALL scanMiRData StartedAt: 2025-07-03 10:57:59 -0400 (Thu, 03 Jul 2025) EndedAt: 2025-07-03 10:58:14 -0400 (Thu, 03 Jul 2025) EllapsedTime: 14.8 seconds RetCode: 0 Status: OK