Package: scRNAseq Version: 2.23.0 Command: /home/biocbuild/bbs-3.22-bioc/R/bin/R CMD INSTALL scRNAseq StartedAt: 2025-07-03 11:00:54 -0400 (Thu, 03 Jul 2025) EndedAt: 2025-07-03 11:01:40 -0400 (Thu, 03 Jul 2025) EllapsedTime: 45.9 seconds RetCode: 0 Status: OK