Package: scRNAseq Version: 2.23.0 Command: /home/biocbuild/bbs-3.22-bioc/R/bin/R CMD build --keep-empty-dirs --no-resave-data scRNAseq StartedAt: 2025-07-03 11:41:59 -0400 (Thu, 03 Jul 2025) EndedAt: 2025-07-03 11:43:16 -0400 (Thu, 03 Jul 2025) EllapsedTime: 76.7 seconds RetCode: 0 Status: OK PackageFile: scRNAseq_2.23.0.tar.gz PackageFileSize: 304.3 KiB