Package: sampleClassifierData Version: 1.33.0 Command: /home/biocbuild/bbs-3.22-bioc/R/bin/R CMD INSTALL sampleClassifierData StartedAt: 2025-07-01 10:58:53 -0400 (Tue, 01 Jul 2025) EndedAt: 2025-07-01 10:59:07 -0400 (Tue, 01 Jul 2025) EllapsedTime: 13.9 seconds RetCode: 0 Status: OK