Package: pumadata Version: 2.45.0 Command: /home/biocbuild/bbs-3.22-bioc/R/bin/R CMD INSTALL pumadata StartedAt: 2025-07-03 11:02:37 -0400 (Thu, 03 Jul 2025) EndedAt: 2025-07-03 11:03:10 -0400 (Thu, 03 Jul 2025) EllapsedTime: 32.8 seconds RetCode: 0 Status: OK