Package: pumadata Version: 2.45.0 Command: /home/biocbuild/bbs-3.22-bioc/R/bin/R CMD build --keep-empty-dirs --no-resave-data pumadata StartedAt: 2025-07-03 11:37:24 -0400 (Thu, 03 Jul 2025) EndedAt: 2025-07-03 11:38:07 -0400 (Thu, 03 Jul 2025) EllapsedTime: 43.4 seconds RetCode: 0 Status: OK PackageFile: pumadata_2.45.0.tar.gz PackageFileSize: 101.7 MiB