Package: preciseTADhub Version: 1.17.0 Command: /home/biocbuild/bbs-3.22-bioc/R/bin/R CMD INSTALL preciseTADhub StartedAt: 2025-07-03 10:56:59 -0400 (Thu, 03 Jul 2025) EndedAt: 2025-07-03 10:57:11 -0400 (Thu, 03 Jul 2025) EllapsedTime: 12.6 seconds RetCode: 0 Status: OK