Package: plotgardenerData Version: 1.15.0 Command: /home/biocbuild/bbs-3.22-bioc/R/bin/R CMD INSTALL plotgardenerData StartedAt: 2025-07-03 10:55:18 -0400 (Thu, 03 Jul 2025) EndedAt: 2025-07-03 10:55:21 -0400 (Thu, 03 Jul 2025) EllapsedTime: 2.5 seconds RetCode: 0 Status: OK