Package: plotgardenerData Version: 1.15.0 Command: /home/biocbuild/bbs-3.22-bioc/R/bin/R CMD build --keep-empty-dirs --no-resave-data plotgardenerData StartedAt: 2025-07-03 11:36:11 -0400 (Thu, 03 Jul 2025) EndedAt: 2025-07-03 11:36:15 -0400 (Thu, 03 Jul 2025) EllapsedTime: 4.3 seconds RetCode: 0 Status: OK PackageFile: plotgardenerData_1.15.0.tar.gz PackageFileSize: 2.388 MiB