Package: pepDat Version: 1.29.0 Command: /home/biocbuild/bbs-3.22-bioc/R/bin/R CMD INSTALL pepDat StartedAt: 2025-07-10 11:00:17 -0400 (Thu, 10 Jul 2025) EndedAt: 2025-07-10 11:00:25 -0400 (Thu, 10 Jul 2025) EllapsedTime: 8.3 seconds RetCode: 0 Status: OK