Package: optimalFlowData Version: 1.21.0 Command: /home/biocbuild/bbs-3.22-bioc/R/bin/R CMD INSTALL optimalFlowData StartedAt: 2025-07-03 10:55:37 -0400 (Thu, 03 Jul 2025) EndedAt: 2025-07-03 10:56:06 -0400 (Thu, 03 Jul 2025) EllapsedTime: 29.6 seconds RetCode: 0 Status: OK