Package: optimalFlowData Version: 1.21.0 Command: /home/biocbuild/bbs-3.22-bioc/R/bin/R CMD build --keep-empty-dirs --no-resave-data optimalFlowData StartedAt: 2025-07-03 11:35:08 -0400 (Thu, 03 Jul 2025) EndedAt: 2025-07-03 11:35:59 -0400 (Thu, 03 Jul 2025) EllapsedTime: 50.9 seconds RetCode: 0 Status: OK PackageFile: optimalFlowData_1.21.0.tar.gz PackageFileSize: 75.86 MiB