Package: octad.db Version: 1.11.0 Command: /home/biocbuild/bbs-3.22-bioc/R/bin/R CMD INSTALL octad.db StartedAt: 2025-07-03 10:56:53 -0400 (Thu, 03 Jul 2025) EndedAt: 2025-07-03 10:57:06 -0400 (Thu, 03 Jul 2025) EllapsedTime: 13.0 seconds RetCode: 0 Status: OK