Package: nullrangesData Version: 1.15.0 Command: /home/biocbuild/bbs-3.22-bioc/R/bin/R CMD build --keep-empty-dirs --no-resave-data nullrangesData StartedAt: 2025-07-03 11:34:18 -0400 (Thu, 03 Jul 2025) EndedAt: 2025-07-03 11:35:08 -0400 (Thu, 03 Jul 2025) EllapsedTime: 49.8 seconds RetCode: 0 Status: OK PackageFile: nullrangesData_1.15.0.tar.gz PackageFileSize: 4.148 MiB