Package: minfiDataEPIC Version: 1.35.0 Command: /home/biocbuild/bbs-3.22-bioc/R/bin/R CMD INSTALL minfiDataEPIC StartedAt: 2025-07-15 11:01:41 -0400 (Tue, 15 Jul 2025) EndedAt: 2025-07-15 11:02:28 -0400 (Tue, 15 Jul 2025) EllapsedTime: 47.8 seconds RetCode: 0 Status: OK