Package: lungExpression Version: 0.47.0 Command: /home/biocbuild/bbs-3.22-bioc/R/bin/R CMD INSTALL lungExpression StartedAt: 2025-07-03 10:56:00 -0400 (Thu, 03 Jul 2025) EndedAt: 2025-07-03 10:56:03 -0400 (Thu, 03 Jul 2025) EllapsedTime: 3.1 seconds RetCode: 0 Status: OK