Package: lungExpression Version: 0.47.0 Command: /home/biocbuild/bbs-3.22-bioc/R/bin/R CMD build --keep-empty-dirs --no-resave-data lungExpression StartedAt: 2025-07-03 11:28:21 -0400 (Thu, 03 Jul 2025) EndedAt: 2025-07-03 11:28:22 -0400 (Thu, 03 Jul 2025) EllapsedTime: 1.3 seconds RetCode: 0 Status: OK PackageFile: lungExpression_0.47.0.tar.gz PackageFileSize: 5.681 MiB