Package: imcdatasets Version: 1.17.0 Command: /home/biocbuild/bbs-3.22-bioc/R/bin/R CMD INSTALL imcdatasets StartedAt: 2025-07-03 10:59:29 -0400 (Thu, 03 Jul 2025) EndedAt: 2025-07-03 11:00:21 -0400 (Thu, 03 Jul 2025) EllapsedTime: 52.3 seconds RetCode: 0 Status: OK