Package: hgu133plus2CellScore Version: 1.29.0 Command: /home/biocbuild/bbs-3.22-bioc/R/bin/R CMD build --keep-empty-dirs --no-resave-data hgu133plus2CellScore StartedAt: 2025-07-10 11:24:11 -0400 (Thu, 10 Jul 2025) EndedAt: 2025-07-10 11:24:41 -0400 (Thu, 10 Jul 2025) EllapsedTime: 29.6 seconds RetCode: 0 Status: OK PackageFile: hgu133plus2CellScore_1.29.0.tar.gz PackageFileSize: 41 MiB