Package: hapmap100khind Version: 1.51.0 Command: /home/biocbuild/bbs-3.22-bioc/R/bin/R CMD INSTALL hapmap100khind StartedAt: 2025-07-03 10:55:40 -0400 (Thu, 03 Jul 2025) EndedAt: 2025-07-03 10:55:42 -0400 (Thu, 03 Jul 2025) EllapsedTime: 1.9 seconds RetCode: 0 Status: OK