Package: hapmap100khind Version: 1.51.0 Command: /home/biocbuild/bbs-3.22-bioc/R/bin/R CMD build --keep-empty-dirs --no-resave-data hapmap100khind StartedAt: 2025-07-03 11:21:02 -0400 (Thu, 03 Jul 2025) EndedAt: 2025-07-03 11:22:00 -0400 (Thu, 03 Jul 2025) EllapsedTime: 57.5 seconds RetCode: 0 Status: OK PackageFile: hapmap100khind_1.51.0.tar.gz PackageFileSize: 38.05 MiB