Package: geneLenDataBase Version: 1.45.0 Command: /home/biocbuild/bbs-3.22-bioc/R/bin/R CMD INSTALL geneLenDataBase StartedAt: 2025-07-03 11:01:16 -0400 (Thu, 03 Jul 2025) EndedAt: 2025-07-03 11:02:37 -0400 (Thu, 03 Jul 2025) EllapsedTime: 81.3 seconds RetCode: 0 Status: OK