Package: frmaExampleData Version: 1.45.0 Command: /home/biocbuild/bbs-3.22-bioc/R/bin/R CMD build --keep-empty-dirs --no-resave-data frmaExampleData StartedAt: 2025-07-03 11:19:24 -0400 (Thu, 03 Jul 2025) EndedAt: 2025-07-03 11:19:28 -0400 (Thu, 03 Jul 2025) EllapsedTime: 4.0 seconds RetCode: 0 Status: OK PackageFile: frmaExampleData_1.45.0.tar.gz PackageFileSize: 15.88 MiB