Package: flowWorkspaceData Version: 3.21.0 Command: /home/biocbuild/bbs-3.22-bioc/R/bin/R CMD INSTALL flowWorkspaceData StartedAt: 2025-07-03 10:55:36 -0400 (Thu, 03 Jul 2025) EndedAt: 2025-07-03 10:55:39 -0400 (Thu, 03 Jul 2025) EllapsedTime: 2.3 seconds RetCode: 0 Status: OK