Package: ffpeExampleData Version: 1.47.0 Command: /home/biocbuild/bbs-3.22-bioc/R/bin/R CMD INSTALL ffpeExampleData StartedAt: 2025-07-03 11:03:10 -0400 (Thu, 03 Jul 2025) EndedAt: 2025-07-03 11:03:45 -0400 (Thu, 03 Jul 2025) EllapsedTime: 34.7 seconds RetCode: 0 Status: OK