Package: easierData Version: 1.15.0 Command: /home/biocbuild/bbs-3.22-bioc/R/bin/R CMD INSTALL easierData StartedAt: 2025-07-03 11:04:02 -0400 (Thu, 03 Jul 2025) EndedAt: 2025-07-03 11:04:32 -0400 (Thu, 03 Jul 2025) EllapsedTime: 30.1 seconds RetCode: 0 Status: OK