Package: easierData Version: 1.15.0 Command: /home/biocbuild/bbs-3.22-bioc/R/bin/R CMD build --keep-empty-dirs --no-resave-data easierData StartedAt: 2025-07-03 11:16:30 -0400 (Thu, 03 Jul 2025) EndedAt: 2025-07-03 11:17:23 -0400 (Thu, 03 Jul 2025) EllapsedTime: 53.4 seconds RetCode: 0 Status: OK PackageFile: easierData_1.15.0.tar.gz PackageFileSize: 408.2 KiB