Package: diffloopdata Version: 1.37.0 Command: /home/biocbuild/bbs-3.22-bioc/R/bin/R CMD INSTALL diffloopdata StartedAt: 2025-07-01 10:55:29 -0400 (Tue, 01 Jul 2025) EndedAt: 2025-07-01 10:55:31 -0400 (Tue, 01 Jul 2025) EllapsedTime: 1.9 seconds RetCode: 0 Status: OK