Package: diffloopdata Version: 1.37.0 Command: /home/biocbuild/bbs-3.22-bioc/R/bin/R CMD build --keep-empty-dirs --no-resave-data diffloopdata StartedAt: 2025-07-01 11:15:21 -0400 (Tue, 01 Jul 2025) EndedAt: 2025-07-01 11:15:34 -0400 (Tue, 01 Jul 2025) EllapsedTime: 13.2 seconds RetCode: 0 Status: OK PackageFile: diffloopdata_1.37.0.tar.gz PackageFileSize: 11.08 MiB